BEGIN:VCALENDAR
VERSION:2.0
PRODID:-//Tybee Clean Beach - ECPv6.15.20//NONSGML v1.0//EN
CALSCALE:GREGORIAN
METHOD:PUBLISH
X-WR-CALNAME:Tybee Clean Beach
X-ORIGINAL-URL:https://tybeecleanbeach.org
X-WR-CALDESC:Events for Tybee Clean Beach
REFRESH-INTERVAL;VALUE=DURATION:PT1H
X-Robots-Tag:noindex
X-PUBLISHED-TTL:PT1H
BEGIN:VTIMEZONE
TZID:UTC
BEGIN:STANDARD
TZOFFSETFROM:+0000
TZOFFSETTO:+0000
TZNAME:UTC
DTSTART:20220101T000000
END:STANDARD
END:VTIMEZONE
BEGIN:VEVENT
DTSTART;TZID=UTC:20230905T100000
DTEND;TZID=UTC:20230905T113000
DTSTAMP:20260424T005239
CREATED:20230611T235654Z
LAST-MODIFIED:20230611T235654Z
UID:1016-1693908000-1693913400@tybeecleanbeach.org
SUMMARY:Post-Labor Day Beach Sweep!
DESCRIPTION:Join us as we clean up the Pier area after a busy holiday weekend. Meet up at 1509 Strand Ave just north of the Tybee Pier. All equipment provided!
URL:https://tybeecleanbeach.org/event/post-labor-day-beach-sweep/
ATTACH;FMTTYPE=image/jpeg:https://tybeecleanbeach.org/wp-content/uploads/2023/06/812543FA-875D-4C65-844F-98A89F7D9BA9-scaled.jpeg
END:VEVENT
END:VCALENDAR