BEGIN:VCALENDAR
VERSION:2.0
PRODID:-//Tybee Clean Beach - ECPv6.15.20//NONSGML v1.0//EN
CALSCALE:GREGORIAN
METHOD:PUBLISH
X-WR-CALNAME:Tybee Clean Beach
X-ORIGINAL-URL:https://tybeecleanbeach.org
X-WR-CALDESC:Events for Tybee Clean Beach
REFRESH-INTERVAL;VALUE=DURATION:PT1H
X-Robots-Tag:noindex
X-PUBLISHED-TTL:PT1H
BEGIN:VTIMEZONE
TZID:UTC
BEGIN:STANDARD
TZOFFSETFROM:+0000
TZOFFSETTO:+0000
TZNAME:UTC
DTSTART:20220101T000000
END:STANDARD
END:VTIMEZONE
BEGIN:VEVENT
DTSTART;TZID=UTC:20230916T100000
DTEND;TZID=UTC:20230916T120000
DTSTAMP:20260424T005240
CREATED:20230612T000845Z
LAST-MODIFIED:20230612T000845Z
UID:1019-1694858400-1694865600@tybeecleanbeach.org
SUMMARY:The International Coastal Clean Up is Today!
DESCRIPTION:Every year on the third Saturday in September\, hundreds of thousands of volunteers around the globe join in the International Coastal Clean Up\, sponsored by the Ocean Conservancy. This year’s event will be held up on the Tybee Pier and Pavilion. All collected beach litter will be sorted and counted\, with the details submitted for inclusion in the Ocean Conservancy’s annual report\, which is used to shape policy around the world. Several coastal conservation groups will host information stations\, and participants will receive a t-shirt while supplies last\, all free of charge as a thank you for your help. Don’t miss a fun and productive day at the beach. Bring family and friends!
URL:https://tybeecleanbeach.org/event/the-international-coastal-clean-up-is-today/
ATTACH;FMTTYPE=image/jpeg:https://tybeecleanbeach.org/wp-content/uploads/2023/06/E3EC2406-F580-4703-86A5-1B24DBC0A30B-scaled.jpeg
END:VEVENT
END:VCALENDAR