BEGIN:VCALENDAR
VERSION:2.0
PRODID:-//Tybee Clean Beach - ECPv6.15.20//NONSGML v1.0//EN
CALSCALE:GREGORIAN
METHOD:PUBLISH
X-WR-CALNAME:Tybee Clean Beach
X-ORIGINAL-URL:https://tybeecleanbeach.org
X-WR-CALDESC:Events for Tybee Clean Beach
REFRESH-INTERVAL;VALUE=DURATION:PT1H
X-Robots-Tag:noindex
X-PUBLISHED-TTL:PT1H
BEGIN:VTIMEZONE
TZID:UTC
BEGIN:STANDARD
TZOFFSETFROM:+0000
TZOFFSETTO:+0000
TZNAME:UTC
DTSTART:20230101T000000
END:STANDARD
END:VTIMEZONE
BEGIN:VEVENT
DTSTART;TZID=UTC:20240115T100000
DTEND;TZID=UTC:20240115T120000
DTSTAMP:20260423T192024
CREATED:20231218T141301Z
LAST-MODIFIED:20231218T141301Z
UID:1108-1705312800-1705320000@tybeecleanbeach.org
SUMMARY:Beach Clean Up on MLK Day
DESCRIPTION:Come honor Dr. King’s legacy of community engagement and service with a morning beach sweep. We’ll be set up just north of the Pier from 10:30 AM until noon.
URL:https://tybeecleanbeach.org/event/beach-clean-up-on-mlk-day-2/
ATTACH;FMTTYPE=image/jpeg:https://tybeecleanbeach.org/wp-content/uploads/2023/12/38B36FBC-5747-41C4-AC33-FB1DADCAF58A-scaled.jpeg
END:VEVENT
END:VCALENDAR