BEGIN:VCALENDAR
VERSION:2.0
PRODID:-//Tybee Clean Beach - ECPv6.15.20//NONSGML v1.0//EN
CALSCALE:GREGORIAN
METHOD:PUBLISH
X-ORIGINAL-URL:https://tybeecleanbeach.org
X-WR-CALDESC:Events for Tybee Clean Beach
REFRESH-INTERVAL;VALUE=DURATION:PT1H
X-Robots-Tag:noindex
X-PUBLISHED-TTL:PT1H
BEGIN:VTIMEZONE
TZID:UTC
BEGIN:STANDARD
TZOFFSETFROM:+0000
TZOFFSETTO:+0000
TZNAME:UTC
DTSTART:20230101T000000
END:STANDARD
END:VTIMEZONE
BEGIN:VEVENT
DTSTART;TZID=UTC:20240128T160000
DTEND;TZID=UTC:20240128T170000
DTSTAMP:20260423T192209
CREATED:20231218T141717Z
LAST-MODIFIED:20231218T141717Z
UID:1111-1706457600-1706461200@tybeecleanbeach.org
SUMMARY:North Beach Clean Up
DESCRIPTION:Let’s meet across from the dining deck of the North Beach Bar & Grill at 4 PM. Maybe drinks and dinner afterwards?
URL:https://tybeecleanbeach.org/event/north-beach-clean-up-3/
ATTACH;FMTTYPE=image/jpeg:https://tybeecleanbeach.org/wp-content/uploads/2023/12/5F566C83-E7A7-4E6D-AD1C-1AABBCA27396-scaled.jpeg
END:VEVENT
END:VCALENDAR