BEGIN:VCALENDAR
VERSION:2.0
PRODID:-//Tybee Clean Beach - ECPv6.15.20//NONSGML v1.0//EN
CALSCALE:GREGORIAN
METHOD:PUBLISH
X-ORIGINAL-URL:https://tybeecleanbeach.org
X-WR-CALDESC:Events for Tybee Clean Beach
REFRESH-INTERVAL;VALUE=DURATION:PT1H
X-Robots-Tag:noindex
X-PUBLISHED-TTL:PT1H
BEGIN:VTIMEZONE
TZID:UTC
BEGIN:STANDARD
TZOFFSETFROM:+0000
TZOFFSETTO:+0000
TZNAME:UTC
DTSTART:20230101T000000
END:STANDARD
END:VTIMEZONE
BEGIN:VEVENT
DTSTART;TZID=UTC:20240211T163000
DTEND;TZID=UTC:20240211T173000
DTSTAMP:20260423T181211
CREATED:20231218T142301Z
LAST-MODIFIED:20231218T142334Z
UID:1114-1707669000-1707672600@tybeecleanbeach.org
SUMMARY:Join us on a beach sweep! (note new start time)
DESCRIPTION:We’ll be clean up the sand around the Tybee Pier today\, meeting up at 1509 Strand Avenue at 4:30 PM for a hour (note new start time). Bring friends and family along!
URL:https://tybeecleanbeach.org/event/join-us-on-a-beach-sweep-note-new-start-time/
ATTACH;FMTTYPE=image/jpeg:https://tybeecleanbeach.org/wp-content/uploads/2023/12/B66F9917-C632-4C32-9479-C61E4DF17953-scaled.jpeg
END:VEVENT
END:VCALENDAR