BEGIN:VCALENDAR
VERSION:2.0
PRODID:-//Tybee Clean Beach - ECPv6.15.20//NONSGML v1.0//EN
CALSCALE:GREGORIAN
METHOD:PUBLISH
X-ORIGINAL-URL:https://tybeecleanbeach.org
X-WR-CALDESC:Events for Tybee Clean Beach
REFRESH-INTERVAL;VALUE=DURATION:PT1H
X-Robots-Tag:noindex
X-PUBLISHED-TTL:PT1H
BEGIN:VTIMEZONE
TZID:UTC
BEGIN:STANDARD
TZOFFSETFROM:+0000
TZOFFSETTO:+0000
TZNAME:UTC
DTSTART:20230101T000000
END:STANDARD
END:VTIMEZONE
BEGIN:VEVENT
DTSTART;TZID=UTC:20240902T180000
DTEND;TZID=UTC:20240902T190000
DTSTAMP:20260423T075258
CREATED:20240619T141501Z
LAST-MODIFIED:20240901T134312Z
UID:1258-1725300000-1725303600@tybeecleanbeach.org
SUMMARY:Labor Day Beach Clean Bash!
DESCRIPTION:Let’s hit the beach and erase any leftover litter from the long Labor Day weekend celebration! Meet-up at 1509 Strand Ave\, just north of the Tybee Pier at 6 PM. \nAll equipment provided!
URL:https://tybeecleanbeach.org/event/post-labor-day-beach-clean-bash/
ATTACH;FMTTYPE=image/jpeg:https://tybeecleanbeach.org/wp-content/uploads/2024/06/IMG_9375-scaled.jpeg
END:VEVENT
END:VCALENDAR