BEGIN:VCALENDAR
VERSION:2.0
PRODID:-//Tybee Clean Beach - ECPv6.15.20//NONSGML v1.0//EN
CALSCALE:GREGORIAN
METHOD:PUBLISH
X-ORIGINAL-URL:https://tybeecleanbeach.org
X-WR-CALDESC:Events for Tybee Clean Beach
REFRESH-INTERVAL;VALUE=DURATION:PT1H
X-Robots-Tag:noindex
X-PUBLISHED-TTL:PT1H
BEGIN:VTIMEZONE
TZID:UTC
BEGIN:STANDARD
TZOFFSETFROM:+0000
TZOFFSETTO:+0000
TZNAME:UTC
DTSTART:20230101T000000
END:STANDARD
END:VTIMEZONE
BEGIN:VEVENT
DTSTART;TZID=UTC:20240921T100000
DTEND;TZID=UTC:20240921T123000
DTSTAMP:20260423T075241
CREATED:20240704T140104Z
LAST-MODIFIED:20240704T140147Z
UID:1274-1726912800-1726921800@tybeecleanbeach.org
SUMMARY:INTERNATIONAL COASTAL CLEAN UP DAY!
DESCRIPTION:It’s here! Mark your calendar to join us from 10AM to noon as we join in the International Coastal Clean Up\, sponsored by the Ocean Conservancy. We’ll be up on the Tybee Pier and Pavillion to dispense equipment\, count all the incoming litter\, and visit information stations hosted by local conversation groups. More details to come!
URL:https://tybeecleanbeach.org/event/international-coastal-clean-up-day/
ATTACH;FMTTYPE=image/jpeg:https://tybeecleanbeach.org/wp-content/uploads/2024/07/IMG_8142-scaled.jpeg
END:VEVENT
END:VCALENDAR