BEGIN:VCALENDAR
VERSION:2.0
PRODID:-//Tybee Clean Beach - ECPv6.15.20//NONSGML v1.0//EN
CALSCALE:GREGORIAN
METHOD:PUBLISH
X-ORIGINAL-URL:https://tybeecleanbeach.org
X-WR-CALDESC:Events for Tybee Clean Beach
REFRESH-INTERVAL;VALUE=DURATION:PT1H
X-Robots-Tag:noindex
X-PUBLISHED-TTL:PT1H
BEGIN:VTIMEZONE
TZID:UTC
BEGIN:STANDARD
TZOFFSETFROM:+0000
TZOFFSETTO:+0000
TZNAME:UTC
DTSTART:20240101T000000
END:STANDARD
END:VTIMEZONE
BEGIN:VEVENT
DTSTART;TZID=UTC:20250316T170000
DTEND;TZID=UTC:20250316T180000
DTSTAMP:20260422T224614
CREATED:20241217T144629Z
LAST-MODIFIED:20241217T144629Z
UID:1383-1742144400-1742148000@tybeecleanbeach.org
SUMMARY:Beach Clean Up @Pier: note 5 PM start time!
DESCRIPTION:We’ll be cleaning up the Pier area today\, starting at 5 PM due to DST. Meet up @1509 Strand Ave\, just north of the Tybee Pier. All equipment provided!
URL:https://tybeecleanbeach.org/event/beach-clean-up-pier-note-5-pm-start-time/
ATTACH;FMTTYPE=image/jpeg:https://tybeecleanbeach.org/wp-content/uploads/2024/12/IMG_2483.jpeg
END:VEVENT
END:VCALENDAR