BEGIN:VCALENDAR
VERSION:2.0
PRODID:-//Tybee Clean Beach - ECPv6.15.20//NONSGML v1.0//EN
CALSCALE:GREGORIAN
METHOD:PUBLISH
X-WR-CALNAME:Tybee Clean Beach
X-ORIGINAL-URL:https://tybeecleanbeach.org
X-WR-CALDESC:Events for Tybee Clean Beach
REFRESH-INTERVAL;VALUE=DURATION:PT1H
X-Robots-Tag:noindex
X-PUBLISHED-TTL:PT1H
BEGIN:VTIMEZONE
TZID:UTC
BEGIN:STANDARD
TZOFFSETFROM:+0000
TZOFFSETTO:+0000
TZNAME:UTC
DTSTART:20240101T000000
END:STANDARD
END:VTIMEZONE
BEGIN:VEVENT
DTSTART;TZID=UTC:20250422T100000
DTEND;TZID=UTC:20250422T113000
DTSTAMP:20260422T210453
CREATED:20250223T191538Z
LAST-MODIFIED:20250223T191538Z
UID:1429-1745316000-1745321400@tybeecleanbeach.org
SUMMARY:Earth Day Clean Up at the Pier!
DESCRIPTION:Come out on Earth Day to clean up the beach down front by the Tybee Pier. Meet up at 1509 Strand Ave – all equipment provided!
URL:https://tybeecleanbeach.org/event/earth-day-clean-up-at-the-pier/
ATTACH;FMTTYPE=image/jpeg:https://tybeecleanbeach.org/wp-content/uploads/2025/02/IMG_1313.jpeg
END:VEVENT
END:VCALENDAR