BEGIN:VCALENDAR
VERSION:2.0
PRODID:-//Tybee Clean Beach - ECPv6.15.20//NONSGML v1.0//EN
CALSCALE:GREGORIAN
METHOD:PUBLISH
X-WR-CALNAME:Tybee Clean Beach
X-ORIGINAL-URL:https://tybeecleanbeach.org
X-WR-CALDESC:Events for Tybee Clean Beach
REFRESH-INTERVAL;VALUE=DURATION:PT1H
X-Robots-Tag:noindex
X-PUBLISHED-TTL:PT1H
BEGIN:VTIMEZONE
TZID:UTC
BEGIN:STANDARD
TZOFFSETFROM:+0000
TZOFFSETTO:+0000
TZNAME:UTC
DTSTART:20240101T000000
END:STANDARD
END:VTIMEZONE
BEGIN:VEVENT
DTSTART;TZID=UTC:20250608T180000
DTEND;TZID=UTC:20250608T190000
DTSTAMP:20260422T181111
CREATED:20250417T131645Z
LAST-MODIFIED:20250520T213422Z
UID:1448-1749405600-1749409200@tybeecleanbeach.org
SUMMARY:Clean the Beach on World Ocean Day!
DESCRIPTION:Let’s celebrate World Ocean Day with a clean beach! We’ll be set up at the Tybee Pier at 6 PM\, so bring the family or your posse and hit the beach for an hour! All equipment provided.
URL:https://tybeecleanbeach.org/event/world-ocean-day-beach-sweep-today/
ATTACH;FMTTYPE=image/png:https://tybeecleanbeach.org/wp-content/uploads/2025/04/IMG_7802.png
END:VEVENT
END:VCALENDAR