BEGIN:VCALENDAR
VERSION:2.0
PRODID:-//Tybee Clean Beach - ECPv6.15.20//NONSGML v1.0//EN
CALSCALE:GREGORIAN
METHOD:PUBLISH
X-ORIGINAL-URL:https://tybeecleanbeach.org
X-WR-CALDESC:Events for Tybee Clean Beach
REFRESH-INTERVAL;VALUE=DURATION:PT1H
X-Robots-Tag:noindex
X-PUBLISHED-TTL:PT1H
BEGIN:VTIMEZONE
TZID:UTC
BEGIN:STANDARD
TZOFFSETFROM:+0000
TZOFFSETTO:+0000
TZNAME:UTC
DTSTART:20240101T000000
END:STANDARD
END:VTIMEZONE
BEGIN:VEVENT
DTSTART;TZID=UTC:20250817T183000
DTEND;TZID=UTC:20250817T193000
DTSTAMP:20260422T151137
CREATED:20250613T004843Z
LAST-MODIFIED:20250613T005421Z
UID:1518-1755455400-1755459000@tybeecleanbeach.org
SUMMARY:Let’s Clean Up the Pier Area
DESCRIPTION:Dog days of summer require a clean up of the heavily-used stretch of beach on either side of the Tybee Pier. Meet-up at 1509 Strand Ave\, just north of the\nPier at 6:30 PM. Bring your friends!
URL:https://tybeecleanbeach.org/event/lets-clean-up-the-pier-area-2/
ATTACH;FMTTYPE=image/jpeg:https://tybeecleanbeach.org/wp-content/uploads/2025/06/IMG_3442-scaled.jpeg
END:VEVENT
END:VCALENDAR