BEGIN:VCALENDAR
VERSION:2.0
PRODID:-//Tybee Clean Beach - ECPv6.15.20//NONSGML v1.0//EN
CALSCALE:GREGORIAN
METHOD:PUBLISH
X-ORIGINAL-URL:https://tybeecleanbeach.org
X-WR-CALDESC:Events for Tybee Clean Beach
REFRESH-INTERVAL;VALUE=DURATION:PT1H
X-Robots-Tag:noindex
X-PUBLISHED-TTL:PT1H
BEGIN:VTIMEZONE
TZID:UTC
BEGIN:STANDARD
TZOFFSETFROM:+0000
TZOFFSETTO:+0000
TZNAME:UTC
DTSTART:20240101T000000
END:STANDARD
END:VTIMEZONE
BEGIN:VEVENT
DTSTART;TZID=UTC:20250920T100000
DTEND;TZID=UTC:20250920T130000
DTSTAMP:20260422T133235
CREATED:20250709T133458Z
LAST-MODIFIED:20250709T133458Z
UID:1529-1758362400-1758373200@tybeecleanbeach.org
SUMMARY:We’re Hosting the Annual International Coastal Cleanup Today!
DESCRIPTION:Join us on Saturday\, September 20th at the annual International Coastal Clean Up sponsored by the Ocean Conservancy! This event draws hundreds of thousands of volunteers across the globe in cleaning up their local waterways. We’ll be counting every piece of trash we remove from the beach and  providing the results to the Ocean Conservancy for inclusion in their annual Marine Debris Report. \nWe’ll be set up on the Tybee Pier & Pavilion where you’ll get your gear and instructions. Afterwards\, visit with local coastal conservation groups such as the Tybee Marine Science Center to learn more about their mission and how to get involved! All equipment provided. If you’d like to help by counting litter\, send a note to tybeecleanbeach@gmail.com\, and we’ll provide the training and materials!
URL:https://tybeecleanbeach.org/event/were-hosting-the-annual-international-coastal-cleanup-today/
ATTACH;FMTTYPE=image/jpeg:https://tybeecleanbeach.org/wp-content/uploads/2025/07/IMG_8133-scaled.jpeg
END:VEVENT
END:VCALENDAR