BEGIN:VCALENDAR
VERSION:2.0
PRODID:-//Tybee Clean Beach - ECPv6.15.20//NONSGML v1.0//EN
CALSCALE:GREGORIAN
METHOD:PUBLISH
X-WR-CALNAME:Tybee Clean Beach
X-ORIGINAL-URL:https://tybeecleanbeach.org
X-WR-CALDESC:Events for Tybee Clean Beach
REFRESH-INTERVAL;VALUE=DURATION:PT1H
X-Robots-Tag:noindex
X-PUBLISHED-TTL:PT1H
BEGIN:VTIMEZONE
TZID:UTC
BEGIN:STANDARD
TZOFFSETFROM:+0000
TZOFFSETTO:+0000
TZNAME:UTC
DTSTART:20240101T000000
END:STANDARD
END:VTIMEZONE
BEGIN:VEVENT
DTSTART;TZID=UTC:20251207T160000
DTEND;TZID=UTC:20251207T170000
DTSTAMP:20260422T113253
CREATED:20250903T145400Z
LAST-MODIFIED:20251207T160608Z
UID:1574-1765123200-1765126800@tybeecleanbeach.org
SUMMARY:CANCELLED- Beach Clean Today - meet up @North Beach
DESCRIPTION:SORRY FOLKS\, CANCELLED DUE TO WEATHER \n  \nWe’ll be cleaning up at North Beach today starting at 4 PM. Meet up in the beach parking lot across from the dining deck at North Beach Bar & Grill. All equipment provided.
URL:https://tybeecleanbeach.org/event/beach-clean-today-location-tba/
ATTACH;FMTTYPE=image/jpeg:https://tybeecleanbeach.org/wp-content/uploads/2025/09/IMG_3118-scaled.jpeg
END:VEVENT
END:VCALENDAR