BEGIN:VCALENDAR
VERSION:2.0
PRODID:-//Tybee Clean Beach - ECPv6.15.20//NONSGML v1.0//EN
CALSCALE:GREGORIAN
METHOD:PUBLISH
X-ORIGINAL-URL:https://tybeecleanbeach.org
X-WR-CALDESC:Events for Tybee Clean Beach
REFRESH-INTERVAL;VALUE=DURATION:PT1H
X-Robots-Tag:noindex
X-PUBLISHED-TTL:PT1H
BEGIN:VTIMEZONE
TZID:UTC
BEGIN:STANDARD
TZOFFSETFROM:+0000
TZOFFSETTO:+0000
TZNAME:UTC
DTSTART:20240101T000000
END:STANDARD
END:VTIMEZONE
BEGIN:VEVENT
DTSTART;TZID=UTC:20251213T110000
DTEND;TZID=UTC:20251213T180000
DTSTAMP:20260422T113429
CREATED:20251110T141942Z
LAST-MODIFIED:20251110T141942Z
UID:1586-1765623600-1765648800@tybeecleanbeach.org
SUMMARY:We’ll be a vendor at the Tybee Christmas Market today!
DESCRIPTION:Come see us at the well-attended and very festive Tybee Christmas Market today down front on Strand Avenue. We’ll have a vendor tent with a wide selection of our colorful and durable household products made from recycled beach and hard-to-recycle plastics! These make great stocking stuffers for all your environment-focused friends and family\, and they’re only $5 or $10\, all of which goes to supporting our programs. We’ll have lightswitch plates (singles and doubles)\, outlet covers\, outdoor hooks\, house or fence letters and numbers\, soap dishes\, coasters\, pens\, and sea animal pendants\, key chains\, and magnets available. Stop by!
URL:https://tybeecleanbeach.org/event/well-be-a-vendor-at-the-tybee-christmas-market-today/
ATTACH;FMTTYPE=image/jpeg:https://tybeecleanbeach.org/wp-content/uploads/2025/11/601B7AEA-4419-4572-8C7C-C468A24B9D82.jpeg
END:VEVENT
END:VCALENDAR