BEGIN:VCALENDAR
VERSION:2.0
PRODID:-//Tybee Clean Beach - ECPv6.15.20//NONSGML v1.0//EN
CALSCALE:GREGORIAN
METHOD:PUBLISH
X-WR-CALNAME:Tybee Clean Beach
X-ORIGINAL-URL:https://tybeecleanbeach.org
X-WR-CALDESC:Events for Tybee Clean Beach
REFRESH-INTERVAL;VALUE=DURATION:PT1H
X-Robots-Tag:noindex
X-PUBLISHED-TTL:PT1H
BEGIN:VTIMEZONE
TZID:UTC
BEGIN:STANDARD
TZOFFSETFROM:+0000
TZOFFSETTO:+0000
TZNAME:UTC
DTSTART:20250101T000000
END:STANDARD
END:VTIMEZONE
BEGIN:VEVENT
DTSTART;TZID=UTC:20260119T100000
DTEND;TZID=UTC:20260119T110000
DTSTAMP:20260422T132549
CREATED:20251110T143044Z
LAST-MODIFIED:20251110T143044Z
UID:1592-1768816800-1768820400@tybeecleanbeach.org
SUMMARY:Celebrate MLK Day with a beach sweep!
DESCRIPTION:Come honor Dr. King’s legacy of service by joining us in a clean up of Tybee’s Pier beach in the Pier area. Meet up at 10AM this morning at 1509 Strand Avenue starting- all equipment provided!
URL:https://tybeecleanbeach.org/event/celebrate-mlk-day-with-a-beach-sweep/
ATTACH;FMTTYPE=image/jpeg:https://tybeecleanbeach.org/wp-content/uploads/2025/11/IMG_7143.jpeg
END:VEVENT
END:VCALENDAR