BEGIN:VCALENDAR
VERSION:2.0
PRODID:-//Tybee Clean Beach - ECPv6.15.20//NONSGML v1.0//EN
CALSCALE:GREGORIAN
METHOD:PUBLISH
X-ORIGINAL-URL:https://tybeecleanbeach.org
X-WR-CALDESC:Events for Tybee Clean Beach
REFRESH-INTERVAL;VALUE=DURATION:PT1H
X-Robots-Tag:noindex
X-PUBLISHED-TTL:PT1H
BEGIN:VTIMEZONE
TZID:UTC
BEGIN:STANDARD
TZOFFSETFROM:+0000
TZOFFSETTO:+0000
TZNAME:UTC
DTSTART:20250101T000000
END:STANDARD
END:VTIMEZONE
BEGIN:VEVENT
DTSTART;TZID=UTC:20260526T103000
DTEND;TZID=UTC:20260526T120000
DTSTAMP:20260422T131540
CREATED:20260307T014234Z
LAST-MODIFIED:20260329T015723Z
UID:1651-1779791400-1779796800@tybeecleanbeach.org
SUMMARY:Post-Memorial Day Clean Up!
DESCRIPTION:After the long party is over\, we’ll be cleaning the beach today starting at 10:30 AM. Meet down by the Tybee Pier (use 1509 Strand Ave on GPS)\, all equipment provided. And then go have lunch at a Turtle-Friendly Restaurant!
URL:https://tybeecleanbeach.org/event/beach-sweep-630-pm-location-tbd/
ATTACH;FMTTYPE=image/jpeg:https://tybeecleanbeach.org/wp-content/uploads/2026/03/IMG_3021-scaled.jpeg
END:VEVENT
END:VCALENDAR