BEGIN:VCALENDAR
VERSION:2.0
PRODID:-//Tybee Clean Beach - ECPv6.15.20//NONSGML v1.0//EN
CALSCALE:GREGORIAN
METHOD:PUBLISH
X-WR-CALNAME:Tybee Clean Beach
X-ORIGINAL-URL:https://tybeecleanbeach.org
X-WR-CALDESC:Events for Tybee Clean Beach
REFRESH-INTERVAL;VALUE=DURATION:PT1H
X-Robots-Tag:noindex
X-PUBLISHED-TTL:PT1H
BEGIN:VTIMEZONE
TZID:UTC
BEGIN:STANDARD
TZOFFSETFROM:+0000
TZOFFSETTO:+0000
TZNAME:UTC
DTSTART:20230101T000000
END:STANDARD
END:VTIMEZONE
BEGIN:VEVENT
DTSTART;TZID=UTC:20250302T160000
DTEND;TZID=UTC:20250302T170000
DTSTAMP:20260423T105250
CREATED:20241217T144049Z
LAST-MODIFIED:20250215T022419Z
UID:1380-1740931200-1740934800@tybeecleanbeach.org
SUMMARY:Beach Clean Up at the Pier!
DESCRIPTION:Join us just north of the Tybee Pier for a beach clean up. All equipment provided. We’ll be set up at 1509 Strand Ave; just sign-in\, grab your gear\, and hit the beach for an hour. Easy!
URL:https://tybeecleanbeach.org/event/beachclean-up-6th-street/
ATTACH;FMTTYPE=image/jpeg:https://tybeecleanbeach.org/wp-content/uploads/2024/12/IMG_9739-scaled.jpeg
END:VEVENT
BEGIN:VEVENT
DTSTART;TZID=UTC:20250222T110000
DTEND;TZID=UTC:20250222T130000
DTSTAMP:20260423T105250
CREATED:20250215T022136Z
LAST-MODIFIED:20250215T022136Z
UID:1419-1740222000-1740229200@tybeecleanbeach.org
SUMMARY:Join us at the Shorebird Festival!
DESCRIPTION:We’ll have a beach cleaning station set up at the Shorebird Festival being held at the Tybee Marine Science Center at North Beach. Come learn all about these unique visitors to Tybee’s shores from 11 AM until 3 PM. Beach cleaning equipment will be available from 11 until 1 PM to clean up near these bird’s habitats.
URL:https://tybeecleanbeach.org/event/join-us-at-the-shorebird-festival/
ATTACH;FMTTYPE=image/jpeg:https://tybeecleanbeach.org/wp-content/uploads/2025/02/IMG_1747-scaled.jpeg
END:VEVENT
BEGIN:VEVENT
DTSTART;TZID=UTC:20250216T160000
DTEND;TZID=UTC:20250216T170000
DTSTAMP:20260423T105250
CREATED:20241217T143354Z
LAST-MODIFIED:20250215T021617Z
UID:1377-1739721600-1739725200@tybeecleanbeach.org
SUMMARY:CANCELED - North Beach Clean Up Today!
DESCRIPTION:Sorry folks\, rain and high winds in the forecast during this event so it’s been canceled. \nTime to hit North Beach – join us in the beach parking lot directly across from the dining deck of North Beach Bar & Grill. All equipment provided!
URL:https://tybeecleanbeach.org/event/north-beach-clean-up-today/
ATTACH;FMTTYPE=image/jpeg:https://tybeecleanbeach.org/wp-content/uploads/2024/12/IMG_1859-scaled.jpeg
END:VEVENT
BEGIN:VEVENT
DTSTART;TZID=UTC:20250202T160000
DTEND;TZID=UTC:20250202T170000
DTSTAMP:20260423T105250
CREATED:20241117T144939Z
LAST-MODIFIED:20241117T145113Z
UID:1373-1738512000-1738515600@tybeecleanbeach.org
SUMMARY:Let’s Clean Up Around the Tybee Pier!
DESCRIPTION:Join us and other beach cleaners today at 4 PM\, down by the Tybee Pier. Meet up at 1509 Strand Ave\, all equipment provided.
URL:https://tybeecleanbeach.org/event/lets-clean-up-around-the-tybee-pier/
ATTACH;FMTTYPE=image/jpeg:https://tybeecleanbeach.org/wp-content/uploads/2024/11/IMG_1720-scaled.jpeg
END:VEVENT
BEGIN:VEVENT
DTSTART;TZID=UTC:20250120T160000
DTEND;TZID=UTC:20250120T170000
DTSTAMP:20260423T105250
CREATED:20241111T142507Z
LAST-MODIFIED:20250118T145311Z
UID:1368-1737388800-1737392400@tybeecleanbeach.org
SUMMARY:Canceled - MLK Day with a Beach Clean Up
DESCRIPTION:Sorry folks\, we canceled this event due to extreme weather. \n  \nHelp join us in honoring Dr. King’s legacy of service with a beach clean up down by the Tybee Pier. Meet up at 1509 Strand Ave – bring the family! All equipment provided.
URL:https://tybeecleanbeach.org/event/celebrate-mlk-day-with-a-beach-clean-up-2/
ATTACH;FMTTYPE=image/jpeg:https://tybeecleanbeach.org/wp-content/uploads/2024/11/IMG_1233-scaled.jpeg
END:VEVENT
BEGIN:VEVENT
DTSTART;TZID=UTC:20250105T160000
DTEND;TZID=UTC:20250105T170000
DTSTAMP:20260423T105250
CREATED:20241111T141917Z
LAST-MODIFIED:20241111T141917Z
UID:1364-1736092800-1736096400@tybeecleanbeach.org
SUMMARY:First beach clean of 2025!
DESCRIPTION:Start the year off right by helping us clean up a stretch of Tybee Island. Event starts at 4PM – check back for details!
URL:https://tybeecleanbeach.org/event/first-beach-clean-of-2025/
ATTACH;FMTTYPE=image/jpeg:https://tybeecleanbeach.org/wp-content/uploads/2024/11/IMG_1716-scaled.jpeg
END:VEVENT
BEGIN:VEVENT
DTSTART;TZID=UTC:20241229T160000
DTEND;TZID=UTC:20241229T170000
DTSTAMP:20260423T105250
CREATED:20241013T211427Z
LAST-MODIFIED:20241111T142025Z
UID:1349-1735488000-1735491600@tybeecleanbeach.org
SUMMARY:Last beach clean up of 2024!
DESCRIPTION:Don’t miss our last clean up of the year. All participants under 18 will receive a small but very special gift as our thank you! Meet up at the Tybee Pier (1509 Strand Ave) at 4 PM sharp! All equipment provided.
URL:https://tybeecleanbeach.org/event/last-beach-clean-up-of-2024/
ATTACH;FMTTYPE=image/jpeg:https://tybeecleanbeach.org/wp-content/uploads/2024/10/IMG_1359.jpeg
END:VEVENT
BEGIN:VEVENT
DTSTART;TZID=UTC:20241215T160000
DTEND;TZID=UTC:20241215T170000
DTSTAMP:20260423T105250
CREATED:20241016T134704Z
LAST-MODIFIED:20241117T144543Z
UID:1353-1734278400-1734282000@tybeecleanbeach.org
SUMMARY:Beach clean today - meet up at 11th Street
DESCRIPTION:Join us today at 4 PM for a beach clean up\, all equipment provided. Meet-up at the 11th Street beach entrance.
URL:https://tybeecleanbeach.org/event/1353/
ATTACH;FMTTYPE=image/jpeg:https://tybeecleanbeach.org/wp-content/uploads/2024/10/IMG_0841-scaled.jpeg
END:VEVENT
BEGIN:VEVENT
DTSTART;TZID=UTC:20241201T160000
DTEND;TZID=UTC:20241201T170000
DTSTAMP:20260423T105250
CREATED:20240915T005847Z
LAST-MODIFIED:20241111T140825Z
UID:1339-1733068800-1733072400@tybeecleanbeach.org
SUMMARY:Beach Clean Up Today @Tybee Pier
DESCRIPTION:Join us in a beach clean up starting at 4 PM for an hour. All equipment provided. Meet up location next to the Tybee Pier (1509 Strand Ave).
URL:https://tybeecleanbeach.org/event/beach-clean-up-tonight-3/
ATTACH;FMTTYPE=image/jpeg:https://tybeecleanbeach.org/wp-content/uploads/2024/09/IMG_1451-scaled.jpeg
END:VEVENT
BEGIN:VEVENT
DTSTART;TZID=UTC:20241117T160000
DTEND;TZID=UTC:20241117T170000
DTSTAMP:20260423T105250
CREATED:20240824T161525Z
LAST-MODIFIED:20241013T210555Z
UID:1305-1731859200-1731862800@tybeecleanbeach.org
SUMMARY:Let’s clean North Beach today!
DESCRIPTION:Bring friends & family to the beach and help us remove any litter from harm’s way! All equipment provided. Meet-up location at the North Beach entrance directly across the large deck of North Beach Bar & Grill. Have dinner afterwards!
URL:https://tybeecleanbeach.org/event/lets-clean-the-beach-today/
ATTACH;FMTTYPE=image/jpeg:https://tybeecleanbeach.org/wp-content/uploads/2024/08/IMG_1232-scaled.jpeg
END:VEVENT
BEGIN:VEVENT
DTSTART;TZID=UTC:20241116T120000
DTEND;TZID=UTC:20241116T170000
DTSTAMP:20260423T105250
CREATED:20241016T135623Z
LAST-MODIFIED:20241016T135623Z
UID:1360-1731758400-1731776400@tybeecleanbeach.org
SUMMARY:Get some gifts at the Tybee Tour de Art!
DESCRIPTION:Come see us at the Tybee Tour de Art show held on the north end\, from noon to 5 PM. We have great Christmas gifts!
URL:https://tybeecleanbeach.org/event/get-some-gifts-at-the-tybee-tour-de-art/
ATTACH;FMTTYPE=image/jpeg:https://tybeecleanbeach.org/wp-content/uploads/2024/10/IMG_9716-scaled.jpeg
END:VEVENT
BEGIN:VEVENT
DTSTART;TZID=UTC:20241103T160000
DTEND;TZID=UTC:20241103T170000
DTSTAMP:20260423T105250
CREATED:20240824T160822Z
LAST-MODIFIED:20241013T210444Z
UID:1302-1730649600-1730653200@tybeecleanbeach.org
SUMMARY:Beach clean tonight @Pier - 4PM start time!
DESCRIPTION:Hey everyone\, we’ll be starting our beach clean up today at 4 PM\, thanks to Daylight Savings Time (sunset tonight is at 5:30). Meet up location is 1509 Strand Ave\, just north of the Tybee Pier. All equipment provided!
URL:https://tybeecleanbeach.org/event/beach-clean-tonight-4pm-start-time/
ATTACH;FMTTYPE=image/jpeg:https://tybeecleanbeach.org/wp-content/uploads/2024/08/IMG_1454-scaled.jpeg
END:VEVENT
BEGIN:VEVENT
DTSTART;TZID=UTC:20241028T153000
DTEND;TZID=UTC:20241028T190000
DTSTAMP:20260423T105250
CREATED:20241016T135139Z
LAST-MODIFIED:20241016T135331Z
UID:1357-1730129400-1730142000@tybeecleanbeach.org
SUMMARY:Visit us at the Tybee Farmers Market!
DESCRIPTION:We’ll be at the Tybee Farmers Market today from 3:30-7 PM\, so stop by and say hello! You can also snag one of our cool 100% recycled plastic products made right here on Tybee from beach trash and resident drop-offs. All proceeds support our programs!
URL:https://tybeecleanbeach.org/event/visit-us-at-the-tybee-farmers-market/
ATTACH;FMTTYPE=image/jpeg:https://tybeecleanbeach.org/wp-content/uploads/2024/10/IMG_7726-scaled.jpeg
END:VEVENT
BEGIN:VEVENT
DTSTART;TZID=UTC:20241020T170000
DTEND;TZID=UTC:20241020T180000
DTSTAMP:20260423T105250
CREATED:20240716T140042Z
LAST-MODIFIED:20240824T160257Z
UID:1283-1729443600-1729447200@tybeecleanbeach.org
SUMMARY:Beach Clean Up @ Pier 5 tonight!
DESCRIPTION:Come join the fun as we clean up the Pier area. All equipment provided! Meet up @1509 Strand Ave at 5 PM.
URL:https://tybeecleanbeach.org/event/beach-clean-up-location-tbd/
ATTACH;FMTTYPE=image/jpeg:https://tybeecleanbeach.org/wp-content/uploads/2024/07/IMG_3442-scaled.jpeg
END:VEVENT
BEGIN:VEVENT
DTSTART;TZID=UTC:20241006T170000
DTEND;TZID=UTC:20241006T180000
DTSTAMP:20260423T105250
CREATED:20240716T134533Z
LAST-MODIFIED:20240922T125926Z
UID:1279-1728234000-1728237600@tybeecleanbeach.org
SUMMARY:Back River Clean Up! (Note start time of 5 PM and meet up of Chatham Ave)
DESCRIPTION:Time to hit the southern tip of the island! We’ll be meeting up at Chatham Ave beach entrance\, all equipment provided. Note start time of 5 PM.
URL:https://tybeecleanbeach.org/event/back-river-clean-up-note-start-time-of-530pm/
ATTACH;FMTTYPE=image/jpeg:https://tybeecleanbeach.org/wp-content/uploads/2024/07/IMG_4406-scaled.jpeg
END:VEVENT
BEGIN:VEVENT
DTSTART;TZID=UTC:20240921T100000
DTEND;TZID=UTC:20240921T123000
DTSTAMP:20260423T105250
CREATED:20240704T140104Z
LAST-MODIFIED:20240704T140147Z
UID:1274-1726912800-1726921800@tybeecleanbeach.org
SUMMARY:INTERNATIONAL COASTAL CLEAN UP DAY!
DESCRIPTION:It’s here! Mark your calendar to join us from 10AM to noon as we join in the International Coastal Clean Up\, sponsored by the Ocean Conservancy. We’ll be up on the Tybee Pier and Pavillion to dispense equipment\, count all the incoming litter\, and visit information stations hosted by local conversation groups. More details to come!
URL:https://tybeecleanbeach.org/event/international-coastal-clean-up-day/
ATTACH;FMTTYPE=image/jpeg:https://tybeecleanbeach.org/wp-content/uploads/2024/07/IMG_8142-scaled.jpeg
END:VEVENT
BEGIN:VEVENT
DTSTART;TZID=UTC:20240915T180000
DTEND;TZID=UTC:20240915T190000
DTSTAMP:20260423T105250
CREATED:20240704T135541Z
LAST-MODIFIED:20240915T005028Z
UID:1271-1726423200-1726426800@tybeecleanbeach.org
SUMMARY:CANCELLED: Mid-Island Beach Clean - 6 PM start time!
DESCRIPTION:Sorry folks\, this event has been cancelled due to weather. See you on the 21st!
URL:https://tybeecleanbeach.org/event/mid-island-beach-clean/
ATTACH;FMTTYPE=image/jpeg:https://tybeecleanbeach.org/wp-content/uploads/2024/07/IMG_0982-scaled.jpeg
END:VEVENT
BEGIN:VEVENT
DTSTART;TZID=UTC:20240902T180000
DTEND;TZID=UTC:20240902T190000
DTSTAMP:20260423T105250
CREATED:20240619T141501Z
LAST-MODIFIED:20240901T134312Z
UID:1258-1725300000-1725303600@tybeecleanbeach.org
SUMMARY:Labor Day Beach Clean Bash!
DESCRIPTION:Let’s hit the beach and erase any leftover litter from the long Labor Day weekend celebration! Meet-up at 1509 Strand Ave\, just north of the Tybee Pier at 6 PM. \nAll equipment provided!
URL:https://tybeecleanbeach.org/event/post-labor-day-beach-clean-bash/
ATTACH;FMTTYPE=image/jpeg:https://tybeecleanbeach.org/wp-content/uploads/2024/06/IMG_9375-scaled.jpeg
END:VEVENT
BEGIN:VEVENT
DTSTART;TZID=UTC:20240818T180000
DTEND;TZID=UTC:20240818T190000
DTSTAMP:20260423T105250
CREATED:20240619T141102Z
LAST-MODIFIED:20240716T133745Z
UID:1255-1724004000-1724007600@tybeecleanbeach.org
SUMMARY:COME JOIN IN OUR 500th CLEAN UP!
DESCRIPTION:Tonight’s beach clean up represents a major milestone for us – #500! Join in the fun and receive a coupon for a free drink after the clean up at North Beach Bar & Grill. All participants will also enter into a raffle to win a gift of their choice – a 100% recycled plastic soap dish\, coasters\, planter pots\, household hooks\, and sea animal magnets and key chains\, all made from beach trash and other recovered plastics right here on Tybee Island! \nWe’ll be set up in the north beach parking lot beach entrance\, directly across from the North Beach Bar & Grill. Please not start time of 6 PM!
URL:https://tybeecleanbeach.org/event/could-this-be-our-500th-clean-up/
ATTACH;FMTTYPE=image/png:https://tybeecleanbeach.org/wp-content/uploads/2024/06/IMG_7447.png
END:VEVENT
BEGIN:VEVENT
DTSTART;TZID=UTC:20240804T183000
DTEND;TZID=UTC:20240804T193000
DTSTAMP:20260423T105250
CREATED:20240619T135043Z
LAST-MODIFIED:20240704T134008Z
UID:1249-1722796200-1722799800@tybeecleanbeach.org
SUMMARY:Let’s Clean the Beach Together!
DESCRIPTION:Time to hit the Pier area for a beach clean up! Join us at 1509 Strand Ave at 6:30 PM for an hour to remove any litter from Tybee’s busiest stretch of beach. All equipment provided!
URL:https://tybeecleanbeach.org/event/lets-clean-the-beach-together/
ATTACH;FMTTYPE=image/jpeg:https://tybeecleanbeach.org/wp-content/uploads/2024/06/IMG_1073-scaled.jpeg
END:VEVENT
BEGIN:VEVENT
DTSTART;TZID=UTC:20240721T183000
DTEND;TZID=UTC:20240721T193000
DTSTAMP:20260423T105250
CREATED:20240428T125918Z
LAST-MODIFIED:20240704T134931Z
UID:1218-1721586600-1721590200@tybeecleanbeach.org
SUMMARY:Beach Sweep Tonight!
DESCRIPTION:We’ll be set up ant 1509 Strand\, down by the Pier. All equipment provided – just come to the sign-in table\, get instructions\, grab your gear\, and hit the beach for an hour. Bring friends! Bring the kids!
URL:https://tybeecleanbeach.org/event/beach-sweep-tonight/
ATTACH;FMTTYPE=image/jpeg:https://tybeecleanbeach.org/wp-content/uploads/2024/04/IMG_5292.jpeg
END:VEVENT
BEGIN:VEVENT
DTSTART;TZID=UTC:20240707T183000
DTEND;TZID=UTC:20240707T193000
DTSTAMP:20260423T105250
CREATED:20240704T133541Z
LAST-MODIFIED:20240704T133541Z
UID:1261-1720377000-1720380600@tybeecleanbeach.org
SUMMARY:It’s Sunday night clean up time!
DESCRIPTION:Join us at the Pier as we remove any remaining litter from the beach after a very long and busy July 4th++ holiday weekend! We’re starting at 6:30 PM for one hour\, meeting up at 1509 Strand Ave. all equipment provided!
URL:https://tybeecleanbeach.org/event/its-sunday-night-clean-up-time/
ATTACH;FMTTYPE=image/jpeg:https://tybeecleanbeach.org/wp-content/uploads/2024/07/IMG_3466-scaled.jpeg
END:VEVENT
BEGIN:VEVENT
DTSTART;TZID=UTC:20240705T100000
DTEND;TZID=UTC:20240705T113000
DTSTAMP:20260423T105250
CREATED:20240428T125308Z
LAST-MODIFIED:20240428T125308Z
UID:1215-1720173600-1720179000@tybeecleanbeach.org
SUMMARY:Post-Fireworks Beach Clean!
DESCRIPTION:Join us at the Tybee Pier for a post-fireworks beach clean up around the Tybee Pier. We’ll be looking to remove any remaining fireworks and litter from the beach to keep it clean for the sea creatures that call Tybee home. And the people\, too! Meet up at 1509 Strand Ave\, all equipment provided.
URL:https://tybeecleanbeach.org/event/post-fireworks-beach-clean/
ATTACH;FMTTYPE=image/jpeg:https://tybeecleanbeach.org/wp-content/uploads/2024/04/IMG_7591-scaled.jpeg
END:VEVENT
BEGIN:VEVENT
DTSTART;TZID=UTC:20240623T183000
DTEND;TZID=UTC:20240623T193000
DTSTAMP:20260423T105250
CREATED:20240428T124636Z
LAST-MODIFIED:20240428T124745Z
UID:1210-1719167400-1719171000@tybeecleanbeach.org
SUMMARY:Join us at the Pier! (Note 6:30 PM Start)
DESCRIPTION:We’ll be cleaning up the Pier area this evening at 6:30PM\, so bring friends and family along and help keep Tybee Tidy. All equipment provided – just come sign-in\, grab your gear\, and go! Meet-up location is 1509 Stand Ave.
URL:https://tybeecleanbeach.org/event/join-us-at-the-pier/
ATTACH;FMTTYPE=image/jpeg:https://tybeecleanbeach.org/wp-content/uploads/2024/04/IMG_0642-scaled.jpeg
END:VEVENT
BEGIN:VEVENT
DTSTART;TZID=UTC:20240608T100000
DTEND;TZID=UTC:20240608T120000
DTSTAMP:20260423T105250
CREATED:20240316T134229Z
LAST-MODIFIED:20240519T162208Z
UID:1200-1717840800-1717848000@tybeecleanbeach.org
SUMMARY:World Ocean Day Beach Clean!
DESCRIPTION:Join us on World Ocean Day as we raise awareness for keeping our coastline free of litter and preventing marine debris. Set up at 1509 Strand Ave next to the Tybee Pier. All equipment provided. This event is sponsored by our supporters from Boston Beer Co\, makers of DogFish Head and other great beers! We’ll also be joined by Allie with the non-profit Manomet who will educate us on how to protect and admire Tybee’s amazing shorebird population. Bring friends and family!
URL:https://tybeecleanbeach.org/event/world-ocean-day-beach-clean/
ATTACH;FMTTYPE=image/jpeg:https://tybeecleanbeach.org/wp-content/uploads/2024/03/IMG_2887-scaled.jpeg
END:VEVENT
BEGIN:VEVENT
DTSTART;TZID=UTC:20240528T100000
DTEND;TZID=UTC:20240528T120000
DTSTAMP:20260423T105250
CREATED:20240316T133202Z
LAST-MODIFIED:20240316T133202Z
UID:1195-1716890400-1716897600@tybeecleanbeach.org
SUMMARY:Post-Memorial Day Beach Sweep!
DESCRIPTION:After the busy Memorial Day weekend\, we’ll be set up for a beach clean up at 1509 Strand Ave\, down by the Tybee Pier. All equipment provided!
URL:https://tybeecleanbeach.org/event/post-memorial-day-beach-sweep-2/
ATTACH;FMTTYPE=image/jpeg:https://tybeecleanbeach.org/wp-content/uploads/2024/03/IMG_9375-scaled.jpeg
END:VEVENT
BEGIN:VEVENT
DTSTART;TZID=UTC:20240512T180000
DTEND;TZID=UTC:20240512T190000
DTSTAMP:20260423T105250
CREATED:20240218T012301Z
LAST-MODIFIED:20240507T150406Z
UID:1176-1715536800-1715540400@tybeecleanbeach.org
SUMMARY:Mother’s Day Clean Up of Back River! (note 6:00PM start time)
DESCRIPTION:It’s Mother’s Day! Take Mom to dinner and then on a beach sweep! We’ll set up at the Chatham Ave beach entrance at the very southern tip of the Island\, so we can clean up the Back River\, a favorite party spot during Spring Break. All equipment provided. *PLEASE NOTE NEW START TIME OF 6 PM*
URL:https://tybeecleanbeach.org/event/back-river-clean-up-2/
ATTACH;FMTTYPE=image/jpeg:https://tybeecleanbeach.org/wp-content/uploads/2024/02/IMG_0729.jpeg
END:VEVENT
BEGIN:VEVENT
DTSTART;TZID=UTC:20240422T100000
DTEND;TZID=UTC:20240422T120000
DTSTAMP:20260423T105250
CREATED:20240218T011721Z
LAST-MODIFIED:20240218T011748Z
UID:1171-1713780000-1713787200@tybeecleanbeach.org
SUMMARY:Clean the Beach on Earth Day!
DESCRIPTION:Join us on Earth Day morning\, Monday April 22nd (which is also the day after one of the busiest weekends of the year)  as we clean up the Pier area. We’ll supply the equipment\, you bring friends and family\, and together we’ll make the beach pristine. Meet-up at 1509 Strand Avenue\, just north of the Pier.
URL:https://tybeecleanbeach.org/event/clean-the-beach-in-earth-day/
ATTACH;FMTTYPE=image/jpeg:https://tybeecleanbeach.org/wp-content/uploads/2024/02/IMG_5429-scaled.jpeg
END:VEVENT
BEGIN:VEVENT
DTSTART;TZID=UTC:20240407T173000
DTEND;TZID=UTC:20240407T183000
DTSTAMP:20260423T105250
CREATED:20240217T221527Z
LAST-MODIFIED:20240217T221527Z
UID:1164-1712511000-1712514600@tybeecleanbeach.org
SUMMARY:Time for a Beach Clean
DESCRIPTION:Let’s meet up at 1509 Strand Ave and clean up the Pier area. All equipment provided.
URL:https://tybeecleanbeach.org/event/time-for-a-beach-clean/
ATTACH;FMTTYPE=image/jpeg:https://tybeecleanbeach.org/wp-content/uploads/2024/02/IMG_5430.jpeg
END:VEVENT
BEGIN:VEVENT
DTSTART;TZID=UTC:20240324T173000
DTEND;TZID=UTC:20240324T183000
DTSTAMP:20260423T105250
CREATED:20231218T143732Z
LAST-MODIFIED:20240321T183829Z
UID:1124-1711301400-1711305000@tybeecleanbeach.org
SUMMARY:Location change - meet at 19th Street
DESCRIPTION:We’re hitting the Back River tonight\, always a Spring Break trash hot spot\, to get any litter out of harm’s way. We’ll be meeting up at the 19th Street beach entrance at end of Butler Ave at 5:30 PM\, for an hour. (Please note this event was previously scheduled for Chatham Ave\, however\, that beach entrance is currently closed). \nAll equipment provided!
URL:https://tybeecleanbeach.org/event/back-river-clean-up/
ATTACH;FMTTYPE=image/webp:https://tybeecleanbeach.org/wp-content/uploads/2023/12/1802F30C-AE55-4A5C-A827-1C4E1705B69C.webp
END:VEVENT
END:VCALENDAR