BEGIN:VCALENDAR
VERSION:2.0
PRODID:-//Tybee Clean Beach - ECPv6.15.20//NONSGML v1.0//EN
CALSCALE:GREGORIAN
METHOD:PUBLISH
X-ORIGINAL-URL:https://tybeecleanbeach.org
X-WR-CALDESC:Events for Tybee Clean Beach
REFRESH-INTERVAL;VALUE=DURATION:PT1H
X-Robots-Tag:noindex
X-PUBLISHED-TTL:PT1H
BEGIN:VTIMEZONE
TZID:UTC
BEGIN:STANDARD
TZOFFSETFROM:+0000
TZOFFSETTO:+0000
TZNAME:UTC
DTSTART:20250101T000000
END:STANDARD
END:VTIMEZONE
BEGIN:VEVENT
DTSTART;TZID=UTC:20260607T100000
DTEND;TZID=UTC:20260607T120000
DTSTAMP:20260422T175544
CREATED:20260329T020702Z
LAST-MODIFIED:20260329T020702Z
UID:1661-1780826400-1780833600@tybeecleanbeach.org
SUMMARY:World Ocean Day Celebration!
DESCRIPTION:OK\, technically WOD is Monday June 8th\, but we’re celebrating on Sunday June 7th instead (we love Sundays!). Join in the fun at North Beach starting at 10AM\, where you can enjoy a beach clean up\, Yoga on the beach\, surfing lessons\, a tour of the Marine Science Center\, learn about shorebirds on Tybee\, and maybe grab a bite at North Beach Bar & Grill\, a Turtle-Friendly Restaurant. Now that’s a fun day!
URL:https://tybeecleanbeach.org/event/world-ocean-day-celebration/
ATTACH;FMTTYPE=image/jpeg:https://tybeecleanbeach.org/wp-content/uploads/2026/03/IMG_5850-scaled.jpeg
END:VEVENT
END:VCALENDAR