BEGIN:VCALENDAR
VERSION:2.0
PRODID:-//Tybee Clean Beach - ECPv6.15.20//NONSGML v1.0//EN
CALSCALE:GREGORIAN
METHOD:PUBLISH
X-WR-CALNAME:Tybee Clean Beach
X-ORIGINAL-URL:https://tybeecleanbeach.org
X-WR-CALDESC:Events for Tybee Clean Beach
REFRESH-INTERVAL;VALUE=DURATION:PT1H
X-Robots-Tag:noindex
X-PUBLISHED-TTL:PT1H
BEGIN:VTIMEZONE
TZID:UTC
BEGIN:STANDARD
TZOFFSETFROM:+0000
TZOFFSETTO:+0000
TZNAME:UTC
DTSTART:20200101T000000
END:STANDARD
END:VTIMEZONE
BEGIN:VEVENT
DTSTART;TZID=UTC:20220403T173000
DTEND;TZID=UTC:20220403T183000
DTSTAMP:20260423T122914
CREATED:20220309T024840Z
LAST-MODIFIED:20220309T024840Z
UID:664-1649007000-1649010600@tybeecleanbeach.org
SUMMARY:Beach Clean Up - Pier area
DESCRIPTION:Join in our weekly Sunday evening clean up just across from the entrance ramp of the Tybee Pier (1509 Strand Ave). All equipment provided. Bring your friends!
URL:https://tybeecleanbeach.org/event/beach-clean-up-pier-area-3/
ATTACH;FMTTYPE=image/jpeg:https://tybeecleanbeach.org/wp-content/uploads/2022/03/4C560215-43CE-4600-AA87-AB47C8C6BE9B-scaled.jpeg
END:VEVENT
BEGIN:VEVENT
DTSTART;TZID=UTC:20220327T173000
DTEND;TZID=UTC:20220327T183000
DTSTAMP:20260423T122914
CREATED:20220122T134659Z
LAST-MODIFIED:20220321T161202Z
UID:650-1648402200-1648405800@tybeecleanbeach.org
SUMMARY:Beach Clean Up - Pier area\, 5:30 PM start
DESCRIPTION:Join us in removing litter from Tybee’s beaches. Come to the meet-up area at 1509 Strand Ave (just north of the Pier)\, sign-in\, grab your gear and head to the sand for an hour. Bring your full bucket back to the sign-in table and watch or help with the sort process. All equipment provided. Please note the later start time of 5:30 PM.
URL:https://tybeecleanbeach.org/event/beach-clean-up-location-tba-2/
ATTACH;FMTTYPE=image/jpeg:https://tybeecleanbeach.org/wp-content/uploads/2022/01/CBAF7D28-B3A6-4AEC-BE8F-A540EBF8DEB8-scaled.jpeg
END:VEVENT
BEGIN:VEVENT
DTSTART;TZID=UTC:20220320T170000
DTEND;TZID=UTC:20220320T180000
DTSTAMP:20260423T122914
CREATED:20220217T202656Z
LAST-MODIFIED:20220309T024207Z
UID:657-1647795600-1647799200@tybeecleanbeach.org
SUMMARY:Beach Clean Up - Back River
DESCRIPTION:Join us at the Chatham Ave beach entrance as we clean up the entire southern end of the Island\, from 18th Street to the Fisherman’s Walk pier. We supply all equipment\, including parking passes\, so you only need to bring a reusable bottle of water (don’t even think about being a plastic bottle!) and lots of enthusiasm.
URL:https://tybeecleanbeach.org/event/beach-clean-up-back-river/
LOCATION:Chatham Ave beach entrance
ATTACH;FMTTYPE=image/jpeg:https://tybeecleanbeach.org/wp-content/uploads/2022/02/B317E3A8-35A2-44CB-9A29-D6D92D8D4DD9-scaled.jpeg
END:VEVENT
BEGIN:VEVENT
DTSTART;TZID=UTC:20220314T160000
DTEND;TZID=UTC:20220314T190000
DTSTAMP:20260423T122914
CREATED:20220309T025429Z
LAST-MODIFIED:20220309T025545Z
UID:667-1647273600-1647284400@tybeecleanbeach.org
SUMMARY:We’re at the opening of Tybee’s Farmers Market!
DESCRIPTION:Come snag one of our unique\, hand crafted planters or coasters\, all made from discarded Tybee plastics recovered on beach sweeps and at our community drop-off center. These otherwise unrecyclable plastics have been diverted from the landfill\, incinerator\, or ocean and instead have been transformed into durable keepsakes. We sort\, clean\, shred\, melt\, and inject these plastics into steel molds and create something new and long-lasting. Come see for yourself at the Tybee Farmers Market\, located in the Tybee Lighthouse complex. All donations support our ongoing programs designed to remove plastics from the beach and advocate for less waste in the first place.
URL:https://tybeecleanbeach.org/event/were-at-the-opening-of-tybees-farmers-market/
ATTACH;FMTTYPE=image/jpeg:https://tybeecleanbeach.org/wp-content/uploads/2022/03/C2BD5732-DD34-40D8-BE05-3C75AD8CC6A8.jpeg
END:VEVENT
BEGIN:VEVENT
DTSTART;TZID=UTC:20220306T170000
DTEND;TZID=UTC:20220306T180000
DTSTAMP:20260423T122914
CREATED:20220122T134250Z
LAST-MODIFIED:20220122T134846Z
UID:647-1646586000-1646589600@tybeecleanbeach.org
SUMMARY:Beach Clean Up - Pier area - new start time
DESCRIPTION:Note time change to 5 PM!\nJoin us on Sunday late afternoon as we clean up the Pier area. We’ll be set up at 1509 Strand Ave\, providing all equipment and parking passes for the event.
URL:https://tybeecleanbeach.org/event/beach-clean-up-pier-area-2/
ATTACH;FMTTYPE=image/jpeg:https://tybeecleanbeach.org/wp-content/uploads/2022/01/4B1B50AF-EA42-4470-AEA2-2EE0B72E7684.jpeg
END:VEVENT
BEGIN:VEVENT
DTSTART;TZID=UTC:20220227T160000
DTEND;TZID=UTC:20220227T170000
DTSTAMP:20260423T122914
CREATED:20220118T133409Z
LAST-MODIFIED:20220211T010130Z
UID:640-1645977600-1645981200@tybeecleanbeach.org
SUMMARY:Beach Clean Up - 1509 Strand Ave meet up
DESCRIPTION:Join us for a beach clean up and learn about Surfrider Georgia\, our partners in pursuit of less plastic pollution. \nWe supply all equipment\, you just sign-in\, grab your gear\, and hit the beach for an hour. \nParking passes are available at the sign-in table for the duration of the event.
URL:https://tybeecleanbeach.org/event/beach-clean-up-location-tba/
ATTACH;FMTTYPE=image/jpeg:https://tybeecleanbeach.org/wp-content/uploads/2022/01/6F30A223-F90D-455D-86AB-5D63F060202B-scaled.jpeg
END:VEVENT
BEGIN:VEVENT
DTSTART;TZID=UTC:20220213T160000
DTEND;TZID=UTC:20220213T170000
DTSTAMP:20260423T122914
CREATED:20220115T195252Z
LAST-MODIFIED:20220211T010233Z
UID:632-1644768000-1644771600@tybeecleanbeach.org
SUMMARY:Beach Clean Up - 1509 Strand Ave meet up
DESCRIPTION:Meet up @1509 Strand Ave Tybee Island. \n\n\nJoin us for a clean up of the Pier area.  All equipment provided\, just sign-in\, grab your gear\, and return everything an hour later. Parking passes available on a first-come basis.\nPlease remember not to bring any throw-away plastics to the clean up\, including gloves\, bags of any kind\, plastic bottles\, styrofoam\, or straws\, as we try to not create any trash of our own\, and hope participants will ‘spread the word’! \nSee you at the beach!
URL:https://tybeecleanbeach.org/event/beach-clean-up-pier-area/
ATTACH;FMTTYPE=image/jpeg:https://tybeecleanbeach.org/wp-content/uploads/2022/01/DF6370B9-4E79-4CF2-9EBD-4C4FC3D7B192-scaled.jpeg
END:VEVENT
BEGIN:VEVENT
DTSTART;TZID=UTC:20220130T160000
DTEND;TZID=UTC:20220130T170000
DTSTAMP:20260423T122914
CREATED:20211116T140627Z
LAST-MODIFIED:20211116T140831Z
UID:606-1643558400-1643562000@tybeecleanbeach.org
SUMMARY:Beach Clean Up - 15th Street Crossover
DESCRIPTION:Join us as we clean up around the Pier area. All equipment provided\, just sign-in\, grab your gear\, and return everything an hour later. Parking passes available for the event on a first-come basis.\n\n\nPlease remember not to bring any throw-away plastics to the clean up\, including gloves\, bags of any kind\, plastic bottles\, styrofoam\, or straws\, as we try to not create any trash of our own on clean-ups\, and hope participants will ‘spread the word
URL:https://tybeecleanbeach.org/event/beach-clean-up-15th-street-crossover-12/
LOCATION:1509 Strand Ave\, Tybee Island
ATTACH;FMTTYPE=image/jpeg:https://tybeecleanbeach.org/wp-content/uploads/2021/11/0EB05B78-144F-4457-BBBF-7E5129E02B9F-scaled.jpeg
END:VEVENT
BEGIN:VEVENT
DTSTART;TZID=UTC:20220118T160000
DTEND;TZID=UTC:20220118T170000
DTSTAMP:20260423T122914
CREATED:20211115T195421Z
LAST-MODIFIED:20220118T132709Z
UID:600-1642521600-1642525200@tybeecleanbeach.org
SUMMARY:Beach Clean Up On Jan 18 canceled
DESCRIPTION:This event has been canceled. Hope to see you at our next clean up on Jan 30!
URL:https://tybeecleanbeach.org/event/beach-clean-up-on-mlk-day/
LOCATION:Chatham Ave beach entrance
ATTACH;FMTTYPE=image/jpeg:https://tybeecleanbeach.org/wp-content/uploads/2021/11/42E5CB9B-11C9-4332-ABB0-F1BBCE51C47D.jpeg
END:VEVENT
BEGIN:VEVENT
DTSTART;TZID=UTC:20220101T160000
DTEND;TZID=UTC:20220101T173000
DTSTAMP:20260423T122914
CREATED:20211115T194228Z
LAST-MODIFIED:20211231T133225Z
UID:594-1641052800-1641058200@tybeecleanbeach.org
SUMMARY:Beach Clean Up - 15th Street Crossover
DESCRIPTION:1509 Strand Ave Tybee Island\n\n\nJoin us at the first beach clean up event of 2022! All equipment provided\, just sign-in\, grab your gear\, and return everything an hour later. Parking passes available for the event on a first-come basis.\nPlease remember not to bring any throw-away plastics to the clean up\, including gloves\, bags of any kind\, plastic bottles\, styrofoam\, or straws\, as we try to not create any trash of our own on clean-ups\, and hope participants will ‘spread the word’.
URL:https://tybeecleanbeach.org/event/beach-clean-up-15th-street-crossover-11/
LOCATION:1509 Strand Ave\, Tybee Island
ATTACH;FMTTYPE=image/jpeg:https://tybeecleanbeach.org/wp-content/uploads/2021/11/C25A6603-F9ED-4BD4-8FC1-BD0EF8F6D97C-scaled.jpeg
END:VEVENT
BEGIN:VEVENT
DTSTART;TZID=UTC:20211205T160000
DTEND;TZID=UTC:20211205T170000
DTSTAMP:20260423T122914
CREATED:20211025T134853Z
LAST-MODIFIED:20211108T125605Z
UID:509-1638720000-1638723600@tybeecleanbeach.org
SUMMARY:Beach Clean Up - 15th Street Crossover
DESCRIPTION:Join your fellow beach lovers as we clean up near the Tybee Pier. All equipment provided\, just sign-on\, grab your gear\, and return everything an hour later. Parking passes available for the event.
URL:https://tybeecleanbeach.org/event/beach-clean-up-15th-street-crossover-9/
LOCATION:1509 Strand Ave\, Tybee Island
ATTACH;FMTTYPE=image/jpeg:https://tybeecleanbeach.org/wp-content/uploads/2021/10/C549A72D-F474-42E1-B616-D529E74A8D22.jpeg
END:VEVENT
BEGIN:VEVENT
DTSTART;TZID=UTC:20211121T160000
DTEND;TZID=UTC:20211121T170000
DTSTAMP:20260423T122914
CREATED:20210922T145055Z
LAST-MODIFIED:20211010T124058Z
UID:471-1637510400-1637514000@tybeecleanbeach.org
SUMMARY:Beach Clean Up - 15th Street Crossover
DESCRIPTION:Join the Tybee Clean Beach Volunteers to remove litter from the beach around Tybee’s Pier and Pavilion. All equipment provided and parking passes are available on a first-come basis (must be returned at the end of the event).
URL:https://tybeecleanbeach.org/event/beach-clean-up-15th-street-crossover-8/
ATTACH;FMTTYPE=image/jpeg:https://tybeecleanbeach.org/wp-content/uploads/2021/08/BA54B63C-9317-4F4F-A754-E57263F2574D.jpeg
END:VEVENT
BEGIN:VEVENT
DTSTART;TZID=UTC:20211110T160000
DTEND;TZID=UTC:20211110T160000
DTSTAMP:20260423T122914
CREATED:20211106T191256Z
LAST-MODIFIED:20211106T194652Z
UID:443-1636560000-1636560000@tybeecleanbeach.org
SUMMARY:Re-Scheduled Beach Clean Up - 15th Street Crossover
DESCRIPTION:Rescheduled from November 7th – Join the Tybee Clean Beach Volunteers to remove litter from the beach around the Tybee Pier. All equipment provided and parking passes are available on a first-come basis (must be returned at the end of the event).
URL:https://tybeecleanbeach.org/event/beach-clean-up-15th-street-crossover-7/
LOCATION:15th Street Crossover\, 1509 Strand Ave\,\, Tybee Island\, GA\, 31328\, United States
ATTACH;FMTTYPE=image/jpeg:https://tybeecleanbeach.org/wp-content/uploads/2021/08/233856815_4456776381051833_531711988595679214_n-1.jpeg
END:VEVENT
BEGIN:VEVENT
DTSTART;TZID=UTC:20211024T170000
DTEND;TZID=UTC:20211024T180000
DTSTAMP:20260423T122914
CREATED:20210907T162136Z
LAST-MODIFIED:20210907T162136Z
UID:417-1635094800-1635098400@tybeecleanbeach.org
SUMMARY:Beach Clean Up - 15th Street Crossover
DESCRIPTION:Join the Tybee Clean Beach Volunteers to remove litter from the beach around Tybee’s Pier and Pavilion. All equipment provided and parking passes are available on a first-come basis (must be returned at the end of the event).
URL:https://tybeecleanbeach.org/event/beach-clean-up-15th-street-crossover-6/
LOCATION:15th Street Crossover\, 1509 Strand Ave\,\, Tybee Island\, GA\, 31328\, United States
ATTACH;FMTTYPE=image/jpeg:https://tybeecleanbeach.org/wp-content/uploads/2021/08/233856815_4456776381051833_531711988595679214_n-1.jpeg
END:VEVENT
BEGIN:VEVENT
DTSTART;TZID=UTC:20211017T170000
DTEND;TZID=UTC:20211017T180000
DTSTAMP:20260423T122914
CREATED:20210907T162113Z
LAST-MODIFIED:20210907T162113Z
UID:415-1634490000-1634493600@tybeecleanbeach.org
SUMMARY:Beach Clean Up - 15th Street Crossover
DESCRIPTION:Join the Tybee Clean Beach Volunteers to remove litter from the beach around Tybee’s Pier and Pavilion. All equipment provided and parking passes are available on a first-come basis (must be returned at the end of the event).
URL:https://tybeecleanbeach.org/event/beach-clean-up-15th-street-crossover-5/
LOCATION:15th Street Crossover\, 1509 Strand Ave\,\, Tybee Island\, GA\, 31328\, United States
ATTACH;FMTTYPE=image/jpeg:https://tybeecleanbeach.org/wp-content/uploads/2021/08/233856815_4456776381051833_531711988595679214_n-1.jpeg
END:VEVENT
BEGIN:VEVENT
DTSTART;TZID=UTC:20211010T170000
DTEND;TZID=UTC:20211010T180000
DTSTAMP:20260423T122914
CREATED:20210907T161827Z
LAST-MODIFIED:20210907T161827Z
UID:410-1633885200-1633888800@tybeecleanbeach.org
SUMMARY:Beach Clean Up - 15th Street Crossover
DESCRIPTION:Join the Tybee Clean Beach Volunteers to remove litter from the beach around Tybee’s Pier and Pavilion. All equipment provided and parking passes are available on a first-come basis (must be returned at the end of the event).
URL:https://tybeecleanbeach.org/event/beach-clean-up-15th-street-crossover-4/
LOCATION:15th Street Crossover\, 1509 Strand Ave\,\, Tybee Island\, GA\, 31328\, United States
ATTACH;FMTTYPE=image/jpeg:https://tybeecleanbeach.org/wp-content/uploads/2021/08/233856815_4456776381051833_531711988595679214_n-1.jpeg
END:VEVENT
BEGIN:VEVENT
DTSTART;TZID=UTC:20211003T170000
DTEND;TZID=UTC:20211003T180000
DTSTAMP:20260423T122914
CREATED:20210907T162031Z
LAST-MODIFIED:20210924T214709Z
UID:412-1633280400-1633284000@tybeecleanbeach.org
SUMMARY:Beach Clean Up - North Beach. Note earlier start time!
DESCRIPTION:Join the Tybee Clean Beach Volunteers to remove litter from north side of the Island. Is this more family-oriented stretch of beach cleaner than the south end? Come find out! All equipment provided and parking passes are available on a first-come basis (must be returned at the end of the event).
URL:https://tybeecleanbeach.org/event/beach-clean-up-north-beach/
LOCATION:North Beach Parking Lot\, Meddin Drive\, Tybee Island\, GA\, 31328\, United States
ATTACH;FMTTYPE=image/jpeg:https://tybeecleanbeach.org/wp-content/uploads/2021/08/233856815_4456776381051833_531711988595679214_n-1.jpeg
END:VEVENT
BEGIN:VEVENT
DTSTART;TZID=UTC:20210926T180000
DTEND;TZID=UTC:20210926T190000
DTSTAMP:20260423T122914
CREATED:20210824T235529Z
LAST-MODIFIED:20210824T235529Z
UID:146-1632679200-1632682800@tybeecleanbeach.org
SUMMARY:Beach Clean Up - 15th Street Crossover
DESCRIPTION:Join the Tybee Clean Beach Volunteers to remove litter from the beach around Tybee’s Pier and Pavilion. All equipment provided and parking passes are available on a first-come basis (must be returned at the end of the event).
URL:https://tybeecleanbeach.org/event/beach-clean-up-15th-street-crossover-3/
LOCATION:15th Street Crossover\, 1509 Strand Ave\,\, Tybee Island\, GA\, 31328\, United States
ATTACH;FMTTYPE=image/jpeg:https://tybeecleanbeach.org/wp-content/uploads/2021/08/233856815_4456776381051833_531711988595679214_n-1.jpeg
END:VEVENT
BEGIN:VEVENT
DTSTART;TZID=UTC:20210919T100000
DTEND;TZID=UTC:20210919T130000
DTSTAMP:20260423T122914
CREATED:20210824T234745Z
LAST-MODIFIED:20210824T234745Z
UID:142-1632045600-1632056400@tybeecleanbeach.org
SUMMARY:International Coastal Clean Up
DESCRIPTION:Come join hundreds of thousands of ocean lovers around the globe at the Ocean Conservancy’s annual International Coastal Cleanup from 10AM-1PM at the Tybee Pier and Pavilion. Participants will sign in and borrow buckets & grabbers to clean the beach between 10 and noon\, and afterwards visit information stations sponsored by local coastal conservation groups. Water refill stations and fruit refreshments available for all participants. This event is hosted by Fight Dirty Tybee
URL:https://tybeecleanbeach.org/event/international-coastal-clean-up/
LOCATION:Tybee Island Pier\, Tybrisa St\, Tybee Island\, GA\, 31328\, United States
ATTACH;FMTTYPE=image/jpeg:https://tybeecleanbeach.org/wp-content/uploads/2021/08/236983069_4470805242982280_4885099740849350240_n-1.jpeg
END:VEVENT
BEGIN:VEVENT
DTSTART;TZID=UTC:20210912T180000
DTEND;TZID=UTC:20210912T190000
DTSTAMP:20260423T122914
CREATED:20210824T233615Z
LAST-MODIFIED:20210824T233735Z
UID:138-1631469600-1631473200@tybeecleanbeach.org
SUMMARY:Beach Clean Up - 10th Street Beach Entrance
DESCRIPTION:NOTE TIME & LOCATION! Join the Tybee Clean Beach Volunteers to remove litter from the beach around Tybee’s Pier and Pavilion. All equipment provided and parking passes are available on a first-come basis (must be returned at the end of the event).
URL:https://tybeecleanbeach.org/event/beach-clean-up-10th-street-beach-entrance/
LOCATION:10th Street Beach Crossover\, 10th Street\, Tybee Island\, GA\, 31328\, United States
ATTACH;FMTTYPE=image/jpeg:https://tybeecleanbeach.org/wp-content/uploads/2021/08/233856815_4456776381051833_531711988595679214_n-1.jpeg
END:VEVENT
BEGIN:VEVENT
DTSTART;TZID=UTC:20210907T100000
DTEND;TZID=UTC:20210907T110000
DTSTAMP:20260423T122914
CREATED:20210824T225523Z
LAST-MODIFIED:20210824T225523Z
UID:135-1631008800-1631012400@tybeecleanbeach.org
SUMMARY:Beach Clean Up - 15th Street Crossover
DESCRIPTION:Join the Tybee Clean Beach Volunteers to remove litter from the beach around Tybee’s Pier and Pavilion. All equipment provided and parking passes are available on a first-come basis (must be returned at the end of the event)
URL:https://tybeecleanbeach.org/event/beach-clean-up-15th-street-crossover-2/
LOCATION:15th Street Crossover\, 1509 Strand Ave\,\, Tybee Island\, GA\, 31328\, United States
ATTACH;FMTTYPE=image/jpeg:https://tybeecleanbeach.org/wp-content/uploads/2021/08/233856815_4456776381051833_531711988595679214_n-1.jpeg
END:VEVENT
BEGIN:VEVENT
DTSTART;TZID=UTC:20210829T183000
DTEND;TZID=UTC:20210829T193000
DTSTAMP:20260423T122914
CREATED:20210824T225341Z
LAST-MODIFIED:20210824T225341Z
UID:131-1630261800-1630265400@tybeecleanbeach.org
SUMMARY:Beach Clean Up - 15th Street Crossover
DESCRIPTION:Join the Tybee Clean Beach Volunteers to remove litter from the beach around Tybee’s Pier and Pavilion. All equipment provided and parking passes are available on a first-come basis (must be returned at the end of the event)
URL:https://tybeecleanbeach.org/event/beach-clean-up-15th-street-crossover/
LOCATION:15th Street Crossover\, 1509 Strand Ave\,\, Tybee Island\, GA\, 31328\, United States
ATTACH;FMTTYPE=image/jpeg:https://tybeecleanbeach.org/wp-content/uploads/2021/08/233856815_4456776381051833_531711988595679214_n-1.jpeg
END:VEVENT
END:VCALENDAR