BEGIN:VCALENDAR
VERSION:2.0
PRODID:-//Tybee Clean Beach - ECPv6.15.20//NONSGML v1.0//EN
CALSCALE:GREGORIAN
METHOD:PUBLISH
X-WR-CALNAME:Tybee Clean Beach
X-ORIGINAL-URL:https://tybeecleanbeach.org
X-WR-CALDESC:Events for Tybee Clean Beach
REFRESH-INTERVAL;VALUE=DURATION:PT1H
X-Robots-Tag:noindex
X-PUBLISHED-TTL:PT1H
BEGIN:VTIMEZONE
TZID:UTC
BEGIN:STANDARD
TZOFFSETFROM:+0000
TZOFFSETTO:+0000
TZNAME:UTC
DTSTART:20210101T000000
END:STANDARD
END:VTIMEZONE
BEGIN:VEVENT
DTSTART;TZID=UTC:20220807T183000
DTEND;TZID=UTC:20220807T193000
DTSTAMP:20260422T223847
CREATED:20220628T131757Z
LAST-MODIFIED:20220628T131757Z
UID:825-1659897000-1659900600@tybeecleanbeach.org
SUMMARY:Beach Clean Up - 6:30 PM start time
DESCRIPTION:Bring your posse or just yourself to a beach clean up down by the Tybee Pier. We’ll be set up at 6:30 PM at 1509 Strand Ave by the Pier\, where most of the trash is. Help us make that area good as new for our sea turtles and shore birds!
URL:https://tybeecleanbeach.org/event/beach-clean-up-630-pm-start-time/
ATTACH;FMTTYPE=image/jpeg:https://tybeecleanbeach.org/wp-content/uploads/2022/06/360FD7C1-C476-470C-ADF5-CE93E2CD6D8F-scaled.jpeg
END:VEVENT
BEGIN:VEVENT
DTSTART;TZID=UTC:20220731T183000
DTEND;TZID=UTC:20220731T193000
DTSTAMP:20260422T223847
CREATED:20220628T130602Z
LAST-MODIFIED:20220724T203708Z
UID:819-1659292200-1659295800@tybeecleanbeach.org
SUMMARY:Let’s Clean Up the Pier Area!
DESCRIPTION:Join us in a beach clean up of the entire area around Tybee Pier. We’ll be meeting up at 1509 Strand Avenue at 7 PM. Sign in\, grab your gear\, hit the beach for an hour\, and return with your bucket to watch the sort process at the end and see how much litter a group of volunteers can retrieve together.
URL:https://tybeecleanbeach.org/event/lets-clean-up-the-pier-area/
ATTACH;FMTTYPE=image/jpeg:https://tybeecleanbeach.org/wp-content/uploads/2022/06/7CF44F1A-0AFF-479B-9323-688A2B79404E-scaled.jpeg
END:VEVENT
BEGIN:VEVENT
DTSTART;TZID=UTC:20220724T190000
DTEND;TZID=UTC:20220724T200000
DTSTAMP:20260422T223847
CREATED:20220710T192438Z
LAST-MODIFIED:20220710T192438Z
UID:829-1658689200-1658692800@tybeecleanbeach.org
SUMMARY:No  beach clean up today
DESCRIPTION:We’re taking the weekend off. You should too! See you next week…
URL:https://tybeecleanbeach.org/event/no-beach-clean-up-today/
END:VEVENT
BEGIN:VEVENT
DTSTART;TZID=UTC:20220717T190000
DTEND;TZID=UTC:20220717T200000
DTSTAMP:20260422T223847
CREATED:20220615T201947Z
LAST-MODIFIED:20220615T201947Z
UID:810-1658084400-1658088000@tybeecleanbeach.org
SUMMARY:Beach Clean Up - Pier Area
DESCRIPTION:We’ll be meeting up just north of the Tybee Pier (1509 Strand Ave) at 7 PM for a one hour beach sweep. All equipment provided\, just sign in\, grab your gear\, hit the beach to get that trash\, and return everything by 8 PM. Simple! Fun! Bring your peeps and help keep Tybee Tidy!
URL:https://tybeecleanbeach.org/event/beach-clean-up-pier-area-8/
LOCATION:1509 Strand Ave\, Tybee Island
ATTACH;FMTTYPE=image/jpeg:https://tybeecleanbeach.org/wp-content/uploads/2022/06/02D9CAD4-F978-4495-BD29-E79BA11BA528.jpeg
END:VEVENT
BEGIN:VEVENT
DTSTART;TZID=UTC:20220711T160000
DTEND;TZID=UTC:20220711T190000
DTSTAMP:20260422T223847
CREATED:20220628T131241Z
LAST-MODIFIED:20220628T131241Z
UID:822-1657555200-1657566000@tybeecleanbeach.org
SUMMARY:Let’s Hit the Tybee Farmers Market!
DESCRIPTION:We’ll have our 100% recycled plastic pots\, coaster sets\, and sea animal pendants available for a small donation at Tybee’s Farmers Market from 4-7 PM.All products are hand-crafted and made from recovered beach trash or deposited at our Hard-to-Recycle Center at the Tybee Y. All proceeds support our programs.
URL:https://tybeecleanbeach.org/event/lets-hit-the-tybee-farmers-market/
ATTACH;FMTTYPE=image/jpeg:https://tybeecleanbeach.org/wp-content/uploads/2022/06/057E4533-DF5A-4F34-B39F-CFFDDFBEB61C-scaled.jpeg
END:VEVENT
BEGIN:VEVENT
DTSTART;TZID=UTC:20220710T190000
DTEND;TZID=UTC:20220710T200000
DTSTAMP:20260422T223847
CREATED:20220615T201251Z
LAST-MODIFIED:20220710T192226Z
UID:802-1657479600-1657483200@tybeecleanbeach.org
SUMMARY:CANCELING North Beach Clean Up
DESCRIPTION:Sorry folks\, storms in the area tonight so this event has been canceled. \nWe’ll be meeting up in the beach parking lot directly across from the deck of the North Beach Bar & Grill for this evening’s beach clean up from 7-8 PM. All equipment provided – enjoy a beverage at the Turtle-Friendly NBB&G afterwards (or before!)
URL:https://tybeecleanbeach.org/event/north-beach-clean-up/
LOCATION:1509 Strand Ave\, Tybee Island
ATTACH;FMTTYPE=image/jpeg:https://tybeecleanbeach.org/wp-content/uploads/2022/06/7711B016-426E-43AB-8239-E6499286E2F9-scaled.jpeg
END:VEVENT
BEGIN:VEVENT
DTSTART;TZID=UTC:20220705T093000
DTEND;TZID=UTC:20220705T103000
DTSTAMP:20260422T223847
CREATED:20220605T022749Z
LAST-MODIFIED:20220605T022749Z
UID:799-1657013400-1657017000@tybeecleanbeach.org
SUMMARY:Post Fireworks Clean Up
DESCRIPTION:Help us remove any bits of fireworks and beach debris left after the long July 4th weekend. Meet up at 1509 Strand Ave at 9:30 AM\, all equipment provided.
URL:https://tybeecleanbeach.org/event/post-fireworks-clean-up/
ATTACH;FMTTYPE=image/jpeg:https://tybeecleanbeach.org/wp-content/uploads/2022/06/D5644CB6-1DCF-4392-8E6E-0CE81AA0C733.jpeg
END:VEVENT
BEGIN:VEVENT
DTSTART;TZID=UTC:20220626T183000
DTEND;TZID=UTC:20220626T193000
DTSTAMP:20260422T223847
CREATED:20220605T021341Z
LAST-MODIFIED:20220605T021341Z
UID:796-1656268200-1656271800@tybeecleanbeach.org
SUMMARY:Pier area clean up
DESCRIPTION:We’ll be hosting a beach clean up at 6:30 PM at the Tybee Pier. Come to 1509 Strand Ave (at the 15th Street beach entrance)\, sign in\, grab your gear\, and hit the beach for an hour. All equipment provided\, including parking passes good for the event.
URL:https://tybeecleanbeach.org/event/pier-area-clean-up/
ATTACH;FMTTYPE=image/jpeg:https://tybeecleanbeach.org/wp-content/uploads/2022/06/60FB3A3C-2FA1-41AA-B733-692D177F28B4-scaled.jpeg
END:VEVENT
BEGIN:VEVENT
DTSTART;TZID=UTC:20220619T183000
DTEND;TZID=UTC:20220619T193000
DTSTAMP:20260422T223847
CREATED:20220605T020933Z
LAST-MODIFIED:20220605T020933Z
UID:793-1655663400-1655667000@tybeecleanbeach.org
SUMMARY:Spend a Sunday evening cleaning the beach!
DESCRIPTION:We’ll be hosting a beach clean up at 6:30 PM at the Tybee Pier. Meet up at 1509 Strand Ave (at the 15th Street beach entrance)\, sign in\, grab your gear\, and hit the beach for an hour. Meet like-minded beach lovers and maybe score a new t-shirt as a thank-you (be sure to ask). All equipment provided\, including parking passes good for the event.
URL:https://tybeecleanbeach.org/event/spend-a-sunday-evening-cleaning-the-beach/
ATTACH;FMTTYPE=image/jpeg:https://tybeecleanbeach.org/wp-content/uploads/2022/06/10EBD25C-076E-4B66-9F4E-71213BD6151B-scaled.jpeg
END:VEVENT
BEGIN:VEVENT
DTSTART;TZID=UTC:20220612T183000
DTEND;TZID=UTC:20220612T193000
DTSTAMP:20260422T223847
CREATED:20220516T225258Z
LAST-MODIFIED:20220516T225334Z
UID:780-1655058600-1655062200@tybeecleanbeach.org
SUMMARY:Beach Clean Up at the Tybee Pier
DESCRIPTION:We’ll be hosting a beach clean up at 6:30 PM (note new start time) for an hour at the Tybee Pier. Come to 1509 Strand Ave (at the 15th Street beach entrance)\, sign in\, grab your gear\, and hit the beach to remove those nasty butts\, straws\, styrofoam and anything else that doesn’t belong on a beautiful\, healthy beach. Meet like-minded beach lovers and maybe score a new t-shirt as a thank-you (be sure to ask). All equipment provided\, including parking passes good for the event. Bring some friends or family!
URL:https://tybeecleanbeach.org/event/each-clean-up-at-the-tybee-pier/
ATTACH;FMTTYPE=image/jpeg:https://tybeecleanbeach.org/wp-content/uploads/2022/05/859D57E1-2F01-4A09-BB37-001E7AF367A3-scaled.jpeg
END:VEVENT
BEGIN:VEVENT
DTSTART;TZID=UTC:20220608T093000
DTEND;TZID=UTC:20220608T110000
DTSTAMP:20260422T223847
CREATED:20220516T225449Z
LAST-MODIFIED:20220525T024034Z
UID:784-1654680600-1654686000@tybeecleanbeach.org
SUMMARY:Celebrate World Ocean Day With a Beach Clean Up!
DESCRIPTION:Make time to help the ocean on World Ocean Day by preventing beach litter from becoming marine debris. We’ll be meeting up at North Beach and cleaning up the northern end of the Island while celebrating this part of the island’s role as a nesting area for endangered shore birds\, such as the Black Skimmer. Bring family & friends! All equipment provided\, and please\, no single-use plastic bottles!
URL:https://tybeecleanbeach.org/event/celebrate-world-ocean-day-with-a-clean-up/
ATTACH;FMTTYPE=image/jpeg:https://tybeecleanbeach.org/wp-content/uploads/2022/05/3DD4BC34-24D6-41F9-B74E-A11E7A165AFA.jpeg
END:VEVENT
BEGIN:VEVENT
DTSTART;TZID=UTC:20220606T160000
DTEND;TZID=UTC:20220606T190000
DTSTAMP:20260422T223847
CREATED:20220516T224605Z
LAST-MODIFIED:20220516T224605Z
UID:776-1654531200-1654542000@tybeecleanbeach.org
SUMMARY:Recycled Pots\, Coaster Sets Available @Tybee Farmers Market
DESCRIPTION:We’re back with our very popular\, very unique planters\, coasters\, and sea animal pendants! They’ll be available at the Tybee Farmers Market at the Lighthouse Complex on Monday June 6th\, from 4-7 PM (or until sold out).  As we’re a small operation and these items require lots of labor (and fire and knives) we only offer them for a donation at the first Farmers Market of the each month\, and also at our workshop. To see us hand-craft these beauties and choose from our on-hand inventory\, send an email to tybeecleanbeach@gmail.com to make arrangements!
URL:https://tybeecleanbeach.org/event/recycled-pots-coaster-sets-available-tybee-farmers-market/
ATTACH;FMTTYPE=image/jpeg:https://tybeecleanbeach.org/wp-content/uploads/2022/05/048BAB8F-7CB2-48BB-91FA-E093AF82B3C0-scaled.jpeg
END:VEVENT
BEGIN:VEVENT
DTSTART;TZID=UTC:20220605T183000
DTEND;TZID=UTC:20220605T193000
DTSTAMP:20260422T223847
CREATED:20220512T020431Z
LAST-MODIFIED:20220512T020431Z
UID:761-1654453800-1654457400@tybeecleanbeach.org
SUMMARY:Beach Clean Up - note new start time of 6:30 PM
DESCRIPTION:Come join us at the Pier for a clean up\, starting at 6:30 PM. Meet up at 1509 Strand Ave\, at the 15th Street Beach entrance.
URL:https://tybeecleanbeach.org/event/beach-clean-up-note-new-start-time-of-630-pm/
ATTACH;FMTTYPE=image/jpeg:https://tybeecleanbeach.org/wp-content/uploads/2022/05/CD16A019-DAED-41E2-8F14-9E7B05D5F1FE-scaled.jpeg
END:VEVENT
BEGIN:VEVENT
DTSTART;TZID=UTC:20220531T093000
DTEND;TZID=UTC:20220531T103000
DTSTAMP:20260422T223847
CREATED:20220418T030516Z
LAST-MODIFIED:20220512T020923Z
UID:741-1653989400-1653993000@tybeecleanbeach.org
SUMMARY:Day After Memorial Day Clean Up
DESCRIPTION:Come enjoy a morning clean up after the long and busy Memorial Day weekend. We’ll be set up at 1509 Strand\, just north of the Tybee Pier. All equipment provided. When you return your bucket and grabber\, be sure to get your ‘I cleaned the beach with Fight  Dirty Tybee’ sticker so you can show the boss why you had to come in late. Starts at 9:30 AM
URL:https://tybeecleanbeach.org/event/day-after-memorial-day-clean-up/
ATTACH;FMTTYPE=image/jpeg:https://tybeecleanbeach.org/wp-content/uploads/2022/04/3C2D9990-2A99-40F7-987F-14C8B942268F-scaled.jpeg
END:VEVENT
BEGIN:VEVENT
DTSTART;TZID=UTC:20220522T180000
DTEND;TZID=UTC:20220522T190000
DTSTAMP:20260422T223847
CREATED:20220504T142033Z
LAST-MODIFIED:20220504T142033Z
UID:749-1653242400-1653246000@tybeecleanbeach.org
SUMMARY:Beach Clean Up at North Beach
DESCRIPTION:We’ll set up at the beach entrance directly across from the deck of North Beach Bar & Grill. Event starts at 6 PM. Have a drink afterwards at NBB&G!
URL:https://tybeecleanbeach.org/event/beach-clean-up-at-north-beach/
ATTACH;FMTTYPE=image/jpeg:https://tybeecleanbeach.org/wp-content/uploads/2022/05/D3B9A4C1-69F0-4481-851E-165C6C7FD635-scaled.jpeg
END:VEVENT
BEGIN:VEVENT
DTSTART;TZID=UTC:20220521T093000
DTEND;TZID=UTC:20220521T110000
DTSTAMP:20260422T223847
CREATED:20220418T024932Z
LAST-MODIFIED:20220512T020658Z
UID:735-1653125400-1653130800@tybeecleanbeach.org
SUMMARY:Beach Clean Up & Hands Across the Sand
DESCRIPTION:We’ll be setting up at the 15th Street beach entrance at 9:30 AM. All gear provided\, parking passes available on a first-come basis. Bring your family\, bring your friends\, bring your significant other\, or bring yourself and do something good for Mother Earth! Afterwards\, stick around and join in Hands Across the Sand at 11 AM\, sponsored by Surfrider GA\, Oceana\, and Fight Dirty Tybee. We’ll hear from the Tybee Mayor\, a Tybee business owner\, and Oceania’s GA Field Rep on why we need to fight hard to protect the ocean\, and form a symbolic chain of protection along the beach. Event to be filmed via drone by Riverrat Productions.
URL:https://tybeecleanbeach.org/event/beach-clean-up-pier-area-7/
ATTACH;FMTTYPE=image/jpeg:https://tybeecleanbeach.org/wp-content/uploads/2022/04/95B4EB75-4CEA-4920-B056-4111B8E0B432.jpeg
END:VEVENT
BEGIN:VEVENT
DTSTART;TZID=UTC:20220515T180000
DTEND;TZID=UTC:20220515T190000
DTSTAMP:20260422T223847
CREATED:20220413T162855Z
LAST-MODIFIED:20220512T015955Z
UID:732-1652637600-1652641200@tybeecleanbeach.org
SUMMARY:Beach Clean Up - Pier area
DESCRIPTION:Meet us at the 15th Street beach entrance\, in front of 1509 Strand Ave as we clean up the Pier area.  All equipment provided!
URL:https://tybeecleanbeach.org/event/beach-clean-up-pier-area-6/
ATTACH;FMTTYPE=image/jpeg:https://tybeecleanbeach.org/wp-content/uploads/2022/04/81EB1290-3E3E-470F-8DBE-3DF27867D743-scaled.jpeg
END:VEVENT
BEGIN:VEVENT
DTSTART;TZID=UTC:20220509T100000
DTEND;TZID=UTC:20220509T110000
DTSTAMP:20260422T223847
CREATED:20220413T132057Z
LAST-MODIFIED:20220504T140432Z
UID:722-1652090400-1652094000@tybeecleanbeach.org
SUMMARY:Join us on a Beach Clean Up!
DESCRIPTION:Come join us in a beach clean up down by Tybee Pier. We provide lightweight buckets and hand-held grabbers to make it easy on everyone. Starts at 10AM at the base of the Tybee Pier.
URL:https://tybeecleanbeach.org/event/mothers-day-beach-clean/
ATTACH;FMTTYPE=image/jpeg:https://tybeecleanbeach.org/wp-content/uploads/2022/04/75731F50-CDB1-45AE-A560-68FF55DE0B67.jpeg
END:VEVENT
BEGIN:VEVENT
DTSTART;TZID=UTC:20220502T160000
DTEND;TZID=UTC:20220502T190000
DTSTAMP:20260422T223847
CREATED:20220413T161730Z
LAST-MODIFIED:20220413T162324Z
UID:725-1651507200-1651518000@tybeecleanbeach.org
SUMMARY:Get your recycled planters and coasters at the Farmers Market!
DESCRIPTION:Come to Tybee’s Farmers Market to score some planters\, coasters\, and sea animal pendants made from plastics we recover on beach sweeps and at our Hard 2 Recycle Center drop-off bin. We clean\, shred\, and inject into molds #5 plastic (polypropylene) as it otherwise would be landfilled or incinerated. These are highly-sought after items that sell out quickly\, and make great gifts! Suggested donation is $15 for pendants\, $10 for planters\, and $5 for coasters. All proceeds support more beach clean ups and our other programs. A virtuous cycle!
URL:https://tybeecleanbeach.org/event/get-your-recycled-planters-and-coasters-at-the-farmers-market/
ATTACH;FMTTYPE=image/jpeg:https://tybeecleanbeach.org/wp-content/uploads/2022/04/9F24F330-539B-43E9-BE3D-E284600C826E-scaled.jpeg
END:VEVENT
BEGIN:VEVENT
DTSTART;TZID=UTC:20220501T180000
DTEND;TZID=UTC:20220501T190000
DTSTAMP:20260422T223847
CREATED:20220413T131625Z
LAST-MODIFIED:20220413T162103Z
UID:719-1651428000-1651431600@tybeecleanbeach.org
SUMMARY:Beach Clean Up - Pier area
DESCRIPTION:Join us as we clean up Tybee’s busiest stretch of beach. We’ll be set up at the base of the ramp to the Pier (GPS 1509 Strand Ave)\, starting at 6 PM. All equipment provided- just sign in\, grab your gear\, hit the beach\, and return by 7 PM. Easy!
URL:https://tybeecleanbeach.org/event/beach-clean-up-pier-area-5/
ATTACH;FMTTYPE=image/jpeg:https://tybeecleanbeach.org/wp-content/uploads/2022/04/379292E5-6A3C-42F5-9E24-A20A5315A36F.jpeg
END:VEVENT
BEGIN:VEVENT
DTSTART;TZID=UTC:20220424T173000
DTEND;TZID=UTC:20220424T183000
DTSTAMP:20260422T223847
CREATED:20220321T161617Z
LAST-MODIFIED:20220321T161729Z
UID:698-1650821400-1650825000@tybeecleanbeach.org
SUMMARY:Beach Clean Up - Pier area
DESCRIPTION:Join us in removing litter from Tybee’s beaches. Come to the meet-up area at 1509 Strand Ave (just north of the Pier)\, sign-in\, grab your gear and head to the sand for an hour. Bring your full bucket back to the sign-in table and watch or help with the sort process. All equipment provided.
URL:https://tybeecleanbeach.org/event/698/
ATTACH;FMTTYPE=image/jpeg:https://tybeecleanbeach.org/wp-content/uploads/2022/03/E3D9CC6C-7D75-4D22-9F1D-6B5CADFAECA3-scaled.jpeg
END:VEVENT
BEGIN:VEVENT
DTSTART;TZID=UTC:20220422T100000
DTEND;TZID=UTC:20220422T113000
DTSTAMP:20260422T223847
CREATED:20220321T160929Z
LAST-MODIFIED:20220321T160929Z
UID:694-1650621600-1650627000@tybeecleanbeach.org
SUMMARY:Earth Day Morning Clean Up - Back River
DESCRIPTION:Join us from 10 – 11:30 AM on Earth Day morning as we fan out from Inlet Avenue and clean up Tybee’s Back River area\, which typically has heavy litter due to spring breakers. We’ll be set up in the Inlet Avenue beach parking lot. Just sign in\, grab your  gear\, and the the beach. Sneakers or shoes recommended; all equipment provided.
URL:https://tybeecleanbeach.org/event/earth-day-morning-clean-up-back-river/
ATTACH;FMTTYPE=image/jpeg:https://tybeecleanbeach.org/wp-content/uploads/2022/03/3DFB4663-3C19-46FB-BC75-F80295EFB9BA.jpeg
END:VEVENT
BEGIN:VEVENT
DTSTART;TZID=UTC:20220410T173000
DTEND;TZID=UTC:20220410T183000
DTSTAMP:20260422T223847
CREATED:20220321T160050Z
LAST-MODIFIED:20220321T160050Z
UID:690-1649611800-1649615400@tybeecleanbeach.org
SUMMARY:Beach Clean Up - Pier area
DESCRIPTION:Join in our weekly Sunday evening clean up just across from the entrance ramp of the Tybee Pier (1509 Strand Ave). All equipment provided. Bring your friends!
URL:https://tybeecleanbeach.org/event/beach-clean-up-pier-area-4/
ATTACH;FMTTYPE=image/jpeg:https://tybeecleanbeach.org/wp-content/uploads/2022/03/0383AC70-9FBA-460B-9BA2-D4F3BB9D252B.jpeg
END:VEVENT
BEGIN:VEVENT
DTSTART;TZID=UTC:20220403T173000
DTEND;TZID=UTC:20220403T183000
DTSTAMP:20260422T223847
CREATED:20220309T024840Z
LAST-MODIFIED:20220309T024840Z
UID:664-1649007000-1649010600@tybeecleanbeach.org
SUMMARY:Beach Clean Up - Pier area
DESCRIPTION:Join in our weekly Sunday evening clean up just across from the entrance ramp of the Tybee Pier (1509 Strand Ave). All equipment provided. Bring your friends!
URL:https://tybeecleanbeach.org/event/beach-clean-up-pier-area-3/
ATTACH;FMTTYPE=image/jpeg:https://tybeecleanbeach.org/wp-content/uploads/2022/03/4C560215-43CE-4600-AA87-AB47C8C6BE9B-scaled.jpeg
END:VEVENT
BEGIN:VEVENT
DTSTART;TZID=UTC:20220327T173000
DTEND;TZID=UTC:20220327T183000
DTSTAMP:20260422T223847
CREATED:20220122T134659Z
LAST-MODIFIED:20220321T161202Z
UID:650-1648402200-1648405800@tybeecleanbeach.org
SUMMARY:Beach Clean Up - Pier area\, 5:30 PM start
DESCRIPTION:Join us in removing litter from Tybee’s beaches. Come to the meet-up area at 1509 Strand Ave (just north of the Pier)\, sign-in\, grab your gear and head to the sand for an hour. Bring your full bucket back to the sign-in table and watch or help with the sort process. All equipment provided. Please note the later start time of 5:30 PM.
URL:https://tybeecleanbeach.org/event/beach-clean-up-location-tba-2/
ATTACH;FMTTYPE=image/jpeg:https://tybeecleanbeach.org/wp-content/uploads/2022/01/CBAF7D28-B3A6-4AEC-BE8F-A540EBF8DEB8-scaled.jpeg
END:VEVENT
BEGIN:VEVENT
DTSTART;TZID=UTC:20220320T170000
DTEND;TZID=UTC:20220320T180000
DTSTAMP:20260422T223847
CREATED:20220217T202656Z
LAST-MODIFIED:20220309T024207Z
UID:657-1647795600-1647799200@tybeecleanbeach.org
SUMMARY:Beach Clean Up - Back River
DESCRIPTION:Join us at the Chatham Ave beach entrance as we clean up the entire southern end of the Island\, from 18th Street to the Fisherman’s Walk pier. We supply all equipment\, including parking passes\, so you only need to bring a reusable bottle of water (don’t even think about being a plastic bottle!) and lots of enthusiasm.
URL:https://tybeecleanbeach.org/event/beach-clean-up-back-river/
LOCATION:Chatham Ave beach entrance
ATTACH;FMTTYPE=image/jpeg:https://tybeecleanbeach.org/wp-content/uploads/2022/02/B317E3A8-35A2-44CB-9A29-D6D92D8D4DD9-scaled.jpeg
END:VEVENT
BEGIN:VEVENT
DTSTART;TZID=UTC:20220314T160000
DTEND;TZID=UTC:20220314T190000
DTSTAMP:20260422T223847
CREATED:20220309T025429Z
LAST-MODIFIED:20220309T025545Z
UID:667-1647273600-1647284400@tybeecleanbeach.org
SUMMARY:We’re at the opening of Tybee’s Farmers Market!
DESCRIPTION:Come snag one of our unique\, hand crafted planters or coasters\, all made from discarded Tybee plastics recovered on beach sweeps and at our community drop-off center. These otherwise unrecyclable plastics have been diverted from the landfill\, incinerator\, or ocean and instead have been transformed into durable keepsakes. We sort\, clean\, shred\, melt\, and inject these plastics into steel molds and create something new and long-lasting. Come see for yourself at the Tybee Farmers Market\, located in the Tybee Lighthouse complex. All donations support our ongoing programs designed to remove plastics from the beach and advocate for less waste in the first place.
URL:https://tybeecleanbeach.org/event/were-at-the-opening-of-tybees-farmers-market/
ATTACH;FMTTYPE=image/jpeg:https://tybeecleanbeach.org/wp-content/uploads/2022/03/C2BD5732-DD34-40D8-BE05-3C75AD8CC6A8.jpeg
END:VEVENT
BEGIN:VEVENT
DTSTART;TZID=UTC:20220306T170000
DTEND;TZID=UTC:20220306T180000
DTSTAMP:20260422T223847
CREATED:20220122T134250Z
LAST-MODIFIED:20220122T134846Z
UID:647-1646586000-1646589600@tybeecleanbeach.org
SUMMARY:Beach Clean Up - Pier area - new start time
DESCRIPTION:Note time change to 5 PM!\nJoin us on Sunday late afternoon as we clean up the Pier area. We’ll be set up at 1509 Strand Ave\, providing all equipment and parking passes for the event.
URL:https://tybeecleanbeach.org/event/beach-clean-up-pier-area-2/
ATTACH;FMTTYPE=image/jpeg:https://tybeecleanbeach.org/wp-content/uploads/2022/01/4B1B50AF-EA42-4470-AEA2-2EE0B72E7684.jpeg
END:VEVENT
BEGIN:VEVENT
DTSTART;TZID=UTC:20220227T160000
DTEND;TZID=UTC:20220227T170000
DTSTAMP:20260422T223847
CREATED:20220118T133409Z
LAST-MODIFIED:20220211T010130Z
UID:640-1645977600-1645981200@tybeecleanbeach.org
SUMMARY:Beach Clean Up - 1509 Strand Ave meet up
DESCRIPTION:Join us for a beach clean up and learn about Surfrider Georgia\, our partners in pursuit of less plastic pollution. \nWe supply all equipment\, you just sign-in\, grab your gear\, and hit the beach for an hour. \nParking passes are available at the sign-in table for the duration of the event.
URL:https://tybeecleanbeach.org/event/beach-clean-up-location-tba/
ATTACH;FMTTYPE=image/jpeg:https://tybeecleanbeach.org/wp-content/uploads/2022/01/6F30A223-F90D-455D-86AB-5D63F060202B-scaled.jpeg
END:VEVENT
BEGIN:VEVENT
DTSTART;TZID=UTC:20220213T160000
DTEND;TZID=UTC:20220213T170000
DTSTAMP:20260422T223847
CREATED:20220115T195252Z
LAST-MODIFIED:20220211T010233Z
UID:632-1644768000-1644771600@tybeecleanbeach.org
SUMMARY:Beach Clean Up - 1509 Strand Ave meet up
DESCRIPTION:Meet up @1509 Strand Ave Tybee Island. \n\n\nJoin us for a clean up of the Pier area.  All equipment provided\, just sign-in\, grab your gear\, and return everything an hour later. Parking passes available on a first-come basis.\nPlease remember not to bring any throw-away plastics to the clean up\, including gloves\, bags of any kind\, plastic bottles\, styrofoam\, or straws\, as we try to not create any trash of our own\, and hope participants will ‘spread the word’! \nSee you at the beach!
URL:https://tybeecleanbeach.org/event/beach-clean-up-pier-area/
ATTACH;FMTTYPE=image/jpeg:https://tybeecleanbeach.org/wp-content/uploads/2022/01/DF6370B9-4E79-4CF2-9EBD-4C4FC3D7B192-scaled.jpeg
END:VEVENT
END:VCALENDAR