BEGIN:VCALENDAR
VERSION:2.0
PRODID:-//Tybee Clean Beach - ECPv6.15.20//NONSGML v1.0//EN
CALSCALE:GREGORIAN
METHOD:PUBLISH
X-WR-CALNAME:Tybee Clean Beach
X-ORIGINAL-URL:https://tybeecleanbeach.org
X-WR-CALDESC:Events for Tybee Clean Beach
REFRESH-INTERVAL;VALUE=DURATION:PT1H
X-Robots-Tag:noindex
X-PUBLISHED-TTL:PT1H
BEGIN:VTIMEZONE
TZID:UTC
BEGIN:STANDARD
TZOFFSETFROM:+0000
TZOFFSETTO:+0000
TZNAME:UTC
DTSTART:20220101T000000
END:STANDARD
END:VTIMEZONE
BEGIN:VEVENT
DTSTART;TZID=UTC:20231008T173000
DTEND;TZID=UTC:20231008T183000
DTSTAMP:20260423T220705
CREATED:20230828T133931Z
LAST-MODIFIED:20230918T004626Z
UID:1055-1696786200-1696789800@tybeecleanbeach.org
SUMMARY:Back River beach sweep!
DESCRIPTION:Tonight we’ll be setting up at the Chatham Ave beach entrance to fan out and clean up the south end of the Island\, including the Back River. You can’t beat the views of the sand bars and Little Tybee\, and if you time it right\, you can stick around for a beautiful sunset. So bring family and friends\, and come for the ambience and for the satisfaction of keeping our Island pristine!
URL:https://tybeecleanbeach.org/event/back-river-beach-sweep/
LOCATION:Chatham Ave beach entrance
ATTACH;FMTTYPE=image/jpeg:https://tybeecleanbeach.org/wp-content/uploads/2023/08/BAE9B29B-9823-42A4-B464-A0FE00D533D1-scaled.jpeg
END:VEVENT
BEGIN:VEVENT
DTSTART;TZID=UTC:20231022T173000
DTEND;TZID=UTC:20231022T183000
DTSTAMP:20260423T220705
CREATED:20230828T134651Z
LAST-MODIFIED:20230828T134651Z
UID:1058-1697995800-1697999400@tybeecleanbeach.org
SUMMARY:Time to clean around the Pier!
DESCRIPTION:We’ll be meeting up just north of the Tybee Pier tonight (GPS 1509 Strand Ave) to clean up the always-busy Pier area. All equipment provided!
URL:https://tybeecleanbeach.org/event/time-to-clean-around-the-pier/
LOCATION:1509 Strand Ave\, Tybee Island
ATTACH;FMTTYPE=image/jpeg:https://tybeecleanbeach.org/wp-content/uploads/2023/08/288A6C7E-BDDC-4547-BF08-37C3084716A4-scaled.jpeg
END:VEVENT
BEGIN:VEVENT
DTSTART;TZID=UTC:20231023T160000
DTEND;TZID=UTC:20231023T190000
DTSTAMP:20260423T220705
CREATED:20231006T135801Z
LAST-MODIFIED:20231006T135801Z
UID:1072-1698076800-1698087600@tybeecleanbeach.org
SUMMARY:Join us at the Tybee Farmers Market!
DESCRIPTION:If you’ve wanted to acquire some of our 100% recycled products\, come to the Farmers Market at the Tybee Lighthouse complex on Monday\, October 23rd\, beginning at 4PM. We’ll be introducing our newest products – colorful soap dishes and round planters\, as well as old favorites of coasters and sea animal pendants\, keychains\, and magnets. They make great gifts\, and all proceeds support our anti-litter and recycling campaigns!
URL:https://tybeecleanbeach.org/event/join-us-at-the-tybee-farmers-market/
ATTACH;FMTTYPE=image/jpeg:https://tybeecleanbeach.org/wp-content/uploads/2023/10/E2AE28BD-5A24-474E-9594-2BC6BCFAEF9E-scaled.jpeg
END:VEVENT
END:VCALENDAR