BEGIN:VCALENDAR
VERSION:2.0
PRODID:-//Tybee Clean Beach - ECPv6.15.20//NONSGML v1.0//EN
CALSCALE:GREGORIAN
METHOD:PUBLISH
X-ORIGINAL-URL:https://tybeecleanbeach.org
X-WR-CALDESC:Events for Tybee Clean Beach
REFRESH-INTERVAL;VALUE=DURATION:PT1H
X-Robots-Tag:noindex
X-PUBLISHED-TTL:PT1H
BEGIN:VTIMEZONE
TZID:UTC
BEGIN:STANDARD
TZOFFSETFROM:+0000
TZOFFSETTO:+0000
TZNAME:UTC
DTSTART:20220101T000000
END:STANDARD
END:VTIMEZONE
BEGIN:VEVENT
DTSTART;TZID=UTC:20231105T163000
DTEND;TZID=UTC:20231105T173000
DTSTAMP:20260423T204057
CREATED:20230828T135905Z
LAST-MODIFIED:20231024T015310Z
UID:1061-1699201800-1699205400@tybeecleanbeach.org
SUMMARY:Beach Clean Up! New StartTime! (4:30PM)
DESCRIPTION:Beach clean up down by the Tybee Pier. Meet up at 1509 Strand Ave\, all equipment provided. Please note new start time of 4:30 PM!
URL:https://tybeecleanbeach.org/event/north-beach-clean-up-note-430pm-start-time/
ATTACH;FMTTYPE=image/jpeg:https://tybeecleanbeach.org/wp-content/uploads/2023/08/63C617B7-1F64-4335-8867-82C71A3EE015-scaled.jpeg
END:VEVENT
BEGIN:VEVENT
DTSTART;TZID=UTC:20231118T100000
DTEND;TZID=UTC:20231118T113000
DTSTAMP:20260423T204057
CREATED:20231022T132152Z
LAST-MODIFIED:20231022T132152Z
UID:1083-1700301600-1700307000@tybeecleanbeach.org
SUMMARY:Celebrate Right Whale Week With a Beach Clean Up!
DESCRIPTION:Join us at the Tybee Marine Science Center on Saturday November 18th from 10-11:30AM as we celebrate the magnificent Right Whale by cleaning the beach. We’ll be meeting up at the beach entrance adjacent to the Marine Science Center (look for the whale tail). All equipment provided!
URL:https://tybeecleanbeach.org/event/celebrate-right-whale-week-with-a-beach-clean-up/
ATTACH;FMTTYPE=image/jpeg:https://tybeecleanbeach.org/wp-content/uploads/2023/10/E7A87CE4-07BD-4DA4-91A6-B5FE45CA5843.jpeg
END:VEVENT
BEGIN:VEVENT
DTSTART;TZID=UTC:20231119T160000
DTEND;TZID=UTC:20231119T170000
DTSTAMP:20260423T204057
CREATED:20230918T005242Z
LAST-MODIFIED:20231116T142001Z
UID:1065-1700409600-1700413200@tybeecleanbeach.org
SUMMARY:Let’s clean the Pier! *Note earlier start time of 4 PM*
DESCRIPTION:We’ll be cleaning up the Pier tonight\, meeting up at 1509 Strand Ave and sweeping both north and south for several beach clocks. It’s the busiest – and the most littered – stretch of Tybee beach. That’s why we spend so much time there. So come  on out and help us return it to its natural\, litter-free state!
URL:https://tybeecleanbeach.org/event/lets-clean-the-pier-area/
ATTACH;FMTTYPE=image/jpeg:https://tybeecleanbeach.org/wp-content/uploads/2023/09/48E7A872-0FFB-4FD1-8D07-9A38313ED26F-scaled.jpeg
END:VEVENT
BEGIN:VEVENT
DTSTART;TZID=UTC:20231125T120000
DTEND;TZID=UTC:20231125T170000
DTSTAMP:20260423T204057
CREATED:20231006T140536Z
LAST-MODIFIED:20231116T144800Z
UID:1075-1700913600-1700931600@tybeecleanbeach.org
SUMMARY:Tybee Holiday Market is Today!
DESCRIPTION:Looking for some great holiday gifts for friends and family? If you’ve wanted to acquire some of our 100% recycled products\, visit us at the very popular Tybee Holiday Market on Tybrisa Street on Saturday\, November 25th\, from noon until 5 PM. We’ll have our newest products – colorful soap dishes (with soap!) and round planters\, as well as old favorites of coasters and sea animal pendants\, keychains\, and magnets available for a small donation. They make great gifts\, and all proceeds support our anti-litter and recycling campaigns!
URL:https://tybeecleanbeach.org/event/tybee-holiday-market-is-today/
ATTACH;FMTTYPE=image/jpeg:https://tybeecleanbeach.org/wp-content/uploads/2023/10/40FADA2A-4942-4D20-9450-007C36872DA8-scaled.jpeg
END:VEVENT
END:VCALENDAR