BEGIN:VCALENDAR
VERSION:2.0
PRODID:-//Tybee Clean Beach - ECPv6.15.20//NONSGML v1.0//EN
CALSCALE:GREGORIAN
METHOD:PUBLISH
X-WR-CALNAME:Tybee Clean Beach
X-ORIGINAL-URL:https://tybeecleanbeach.org
X-WR-CALDESC:Events for Tybee Clean Beach
REFRESH-INTERVAL;VALUE=DURATION:PT1H
X-Robots-Tag:noindex
X-PUBLISHED-TTL:PT1H
BEGIN:VTIMEZONE
TZID:UTC
BEGIN:STANDARD
TZOFFSETFROM:+0000
TZOFFSETTO:+0000
TZNAME:UTC
DTSTART:20220101T000000
END:STANDARD
END:VTIMEZONE
BEGIN:VEVENT
DTSTART;TZID=UTC:20231203T160000
DTEND;TZID=UTC:20231203T170000
DTSTAMP:20260423T192032
CREATED:20231022T132608Z
LAST-MODIFIED:20231116T142057Z
UID:1086-1701619200-1701622800@tybeecleanbeach.org
SUMMARY:Beach Clean Up @10th Street! (note 4 PM start)
DESCRIPTION:Let’s clean up the stretch of beach from 8th Street to 12th Street\, meeting up in the middle\, at the 10th Street beach entrance. All equipment provided!
URL:https://tybeecleanbeach.org/event/beach-clean-up-10th-street/
ATTACH;FMTTYPE=image/jpeg:https://tybeecleanbeach.org/wp-content/uploads/2023/10/CC275E6D-7BE3-4232-901A-3849E7877B08-scaled.jpeg
END:VEVENT
BEGIN:VEVENT
DTSTART;TZID=UTC:20231217T160000
DTEND;TZID=UTC:20231217T170000
DTSTAMP:20260423T192032
CREATED:20231024T015806Z
LAST-MODIFIED:20231116T142149Z
UID:1092-1702828800-1702832400@tybeecleanbeach.org
SUMMARY:Don’t miss the last beach clean up of 2023!
DESCRIPTION:This is it – our final beach clean up of 2023! Join us at 1509 Strand Ave – the beach entrance just north of the Tybee Pier – as we wrap up our clean ups for this year. \nBut  not to worry – we’ll be back at it on the first day of 2024. Weird\, 2024. \nAnyway\, see you on the 17th! Of December. 2023! \n(p.s….all equipment provided. Really. Just show up!)
URL:https://tybeecleanbeach.org/event/dont-miss-the-last-beach-clean-up-of-2023/
ATTACH;FMTTYPE=image/jpeg:https://tybeecleanbeach.org/wp-content/uploads/2023/10/20702CD3-5FD7-47F3-A58F-3AAA55D850ED.jpeg
END:VEVENT
END:VCALENDAR