BEGIN:VCALENDAR
VERSION:2.0
PRODID:-//Tybee Clean Beach - ECPv6.15.20//NONSGML v1.0//EN
CALSCALE:GREGORIAN
METHOD:PUBLISH
X-ORIGINAL-URL:https://tybeecleanbeach.org
X-WR-CALDESC:Events for Tybee Clean Beach
REFRESH-INTERVAL;VALUE=DURATION:PT1H
X-Robots-Tag:noindex
X-PUBLISHED-TTL:PT1H
BEGIN:VTIMEZONE
TZID:UTC
BEGIN:STANDARD
TZOFFSETFROM:+0000
TZOFFSETTO:+0000
TZNAME:UTC
DTSTART:20230101T000000
END:STANDARD
END:VTIMEZONE
BEGIN:VEVENT
DTSTART;TZID=UTC:20240705T100000
DTEND;TZID=UTC:20240705T113000
DTSTAMP:20260423T091933
CREATED:20240428T125308Z
LAST-MODIFIED:20240428T125308Z
UID:1215-1720173600-1720179000@tybeecleanbeach.org
SUMMARY:Post-Fireworks Beach Clean!
DESCRIPTION:Join us at the Tybee Pier for a post-fireworks beach clean up around the Tybee Pier. We’ll be looking to remove any remaining fireworks and litter from the beach to keep it clean for the sea creatures that call Tybee home. And the people\, too! Meet up at 1509 Strand Ave\, all equipment provided.
URL:https://tybeecleanbeach.org/event/post-fireworks-beach-clean/
ATTACH;FMTTYPE=image/jpeg:https://tybeecleanbeach.org/wp-content/uploads/2024/04/IMG_7591-scaled.jpeg
END:VEVENT
BEGIN:VEVENT
DTSTART;TZID=UTC:20240707T183000
DTEND;TZID=UTC:20240707T193000
DTSTAMP:20260423T091933
CREATED:20240704T133541Z
LAST-MODIFIED:20240704T133541Z
UID:1261-1720377000-1720380600@tybeecleanbeach.org
SUMMARY:It’s Sunday night clean up time!
DESCRIPTION:Join us at the Pier as we remove any remaining litter from the beach after a very long and busy July 4th++ holiday weekend! We’re starting at 6:30 PM for one hour\, meeting up at 1509 Strand Ave. all equipment provided!
URL:https://tybeecleanbeach.org/event/its-sunday-night-clean-up-time/
ATTACH;FMTTYPE=image/jpeg:https://tybeecleanbeach.org/wp-content/uploads/2024/07/IMG_3466-scaled.jpeg
END:VEVENT
BEGIN:VEVENT
DTSTART;TZID=UTC:20240721T183000
DTEND;TZID=UTC:20240721T193000
DTSTAMP:20260423T091933
CREATED:20240428T125918Z
LAST-MODIFIED:20240704T134931Z
UID:1218-1721586600-1721590200@tybeecleanbeach.org
SUMMARY:Beach Sweep Tonight!
DESCRIPTION:We’ll be set up ant 1509 Strand\, down by the Pier. All equipment provided – just come to the sign-in table\, get instructions\, grab your gear\, and hit the beach for an hour. Bring friends! Bring the kids!
URL:https://tybeecleanbeach.org/event/beach-sweep-tonight/
ATTACH;FMTTYPE=image/jpeg:https://tybeecleanbeach.org/wp-content/uploads/2024/04/IMG_5292.jpeg
END:VEVENT
END:VCALENDAR