BEGIN:VCALENDAR
VERSION:2.0
PRODID:-//Tybee Clean Beach - ECPv6.15.20//NONSGML v1.0//EN
CALSCALE:GREGORIAN
METHOD:PUBLISH
X-WR-CALNAME:Tybee Clean Beach
X-ORIGINAL-URL:https://tybeecleanbeach.org
X-WR-CALDESC:Events for Tybee Clean Beach
REFRESH-INTERVAL;VALUE=DURATION:PT1H
X-Robots-Tag:noindex
X-PUBLISHED-TTL:PT1H
BEGIN:VTIMEZONE
TZID:UTC
BEGIN:STANDARD
TZOFFSETFROM:+0000
TZOFFSETTO:+0000
TZNAME:UTC
DTSTART:20240101T000000
END:STANDARD
END:VTIMEZONE
BEGIN:VEVENT
DTSTART;TZID=UTC:20251102T160000
DTEND;TZID=UTC:20251102T170000
DTSTAMP:20260422T084551
CREATED:20250814T141613Z
LAST-MODIFIED:20250903T145039Z
UID:1555-1762099200-1762102800@tybeecleanbeach.org
SUMMARY:North Beach Clean Up Today - note 4 PM start!
DESCRIPTION:Yes\, that’s right\, with the end of DST we’ll be starting at 4 PM today so we don’t run out of light! We’ll be meeting up at the middle entrance at North Beach\, across from the deck of North Beach Bar & Grill at 4 PM. All equipment provided!
URL:https://tybeecleanbeach.org/event/beach-clean-up-today-note-4-pm-start-2/
ATTACH;FMTTYPE=image/jpeg:https://tybeecleanbeach.org/wp-content/uploads/2025/08/IMG_1613-scaled.jpeg
END:VEVENT
BEGIN:VEVENT
DTSTART;TZID=UTC:20251116T160000
DTEND;TZID=UTC:20251116T170000
DTSTAMP:20260422T084551
CREATED:20250814T141232Z
LAST-MODIFIED:20250814T141232Z
UID:1551-1763308800-1763312400@tybeecleanbeach.org
SUMMARY:Beach Clean Up at the Tybee Pier
DESCRIPTION:Meet us at 1509 Strand Ave\, just north of the Tybee Pier\, for a beach clean up beginning at 4 PM. All equipment provided.
URL:https://tybeecleanbeach.org/event/beach-clean-up-at-the-tybee-pier/
ATTACH;FMTTYPE=image/png:https://tybeecleanbeach.org/wp-content/uploads/2025/08/IMG_7858.png
END:VEVENT
END:VCALENDAR