BEGIN:VCALENDAR
VERSION:2.0
PRODID:-//Tybee Clean Beach - ECPv6.15.20//NONSGML v1.0//EN
CALSCALE:GREGORIAN
METHOD:PUBLISH
X-WR-CALNAME:Tybee Clean Beach
X-ORIGINAL-URL:https://tybeecleanbeach.org
X-WR-CALDESC:Events for Tybee Clean Beach
REFRESH-INTERVAL;VALUE=DURATION:PT1H
X-Robots-Tag:noindex
X-PUBLISHED-TTL:PT1H
BEGIN:VTIMEZONE
TZID:UTC
BEGIN:STANDARD
TZOFFSETFROM:+0000
TZOFFSETTO:+0000
TZNAME:UTC
DTSTART:20250101T000000
END:STANDARD
END:VTIMEZONE
BEGIN:VEVENT
DTSTART;TZID=UTC:20260301T163000
DTEND;TZID=UTC:20260301T173000
DTSTAMP:20260422T113259
CREATED:20251110T144338Z
LAST-MODIFIED:20260210T141405Z
UID:1602-1772382600-1772386200@tybeecleanbeach.org
SUMMARY:Meet up @Tybee Pier today
DESCRIPTION:Join us at 4:30 PM for a beach sweep\, meeting up at the beach entrance just north of the Tybee Pier (1509 Strand Ave on GPS). All equipment provided!
URL:https://tybeecleanbeach.org/event/meet-up-10th-street-today/
ATTACH;FMTTYPE=image/jpeg:https://tybeecleanbeach.org/wp-content/uploads/2025/11/IMG_8049-scaled.jpeg
END:VEVENT
BEGIN:VEVENT
DTSTART;TZID=UTC:20260315T120000
DTEND;TZID=UTC:20260315T170000
DTSTAMP:20260422T113259
CREATED:20251110T145118Z
LAST-MODIFIED:20260307T004835Z
UID:1605-1773576000-1773594000@tybeecleanbeach.org
SUMMARY:No clean up today - we’ll be at the Tour de Art!
DESCRIPTION:No clean up today as we will be participating at the first Tour de Art of 2026! Come see us and all of our exciting\, colorful recycled plastic housewares made from beach trash and #2 & #5 plastics dropped at our Hard-to-Recycle Center! We’ll be a vendor at from noon until 5 PM and will have a full collection of all the favorites\, including soap dishes\, coasters\, planter pots\, small trays\, light switch plates and electric outlet covers\, bic pens\, shower hooks\, and sea animal pendants\, key chains\, magnets\, and earrings. And all proceeds support our programs!
URL:https://tybeecleanbeach.org/event/beach-clean-tonight-starting-at-6-pm/
ATTACH;FMTTYPE=image/jpeg:https://tybeecleanbeach.org/wp-content/uploads/2025/05/IMG_1840-scaled.jpeg
END:VEVENT
BEGIN:VEVENT
DTSTART;TZID=UTC:20260322T180000
DTEND;TZID=UTC:20260322T190000
DTSTAMP:20260422T113259
CREATED:20260205T142548Z
LAST-MODIFIED:20260307T012931Z
UID:1619-1774202400-1774206000@tybeecleanbeach.org
SUMMARY:Back River Clean Up Today!
DESCRIPTION:Join us at 6 PM at the Chatham Avenue beach entrance as we fan out across the back River stretch of Tybee’s southern end. All equipment provided! Use 1927 Chatham Ave on GPS to find us!
URL:https://tybeecleanbeach.org/event/back-river-clean-up-today/
ATTACH;FMTTYPE=image/jpeg:https://tybeecleanbeach.org/wp-content/uploads/2026/02/IMG_1359.jpeg
END:VEVENT
END:VCALENDAR